BEGIN:VCALENDAR
VERSION:2.0
PRODID:-//Smart Training Center - ECPv6.15.20//NONSGML v1.0//EN
CALSCALE:GREGORIAN
METHOD:PUBLISH
X-ORIGINAL-URL:https://smart-training-center.com
X-WR-CALDESC:Events for Smart Training Center
REFRESH-INTERVAL;VALUE=DURATION:PT1H
X-Robots-Tag:noindex
X-PUBLISHED-TTL:PT1H
BEGIN:VTIMEZONE
TZID:Asia/Krasnoyarsk
BEGIN:STANDARD
TZOFFSETFROM:+0700
TZOFFSETTO:+0700
TZNAME:+07
DTSTART:20250101T000000
END:STANDARD
END:VTIMEZONE
BEGIN:VEVENT
DTSTART;TZID=Asia/Krasnoyarsk:20260819T083000
DTEND;TZID=Asia/Krasnoyarsk:20260821T160000
DTSTAMP:20260422T062442
CREATED:20241122T155207Z
LAST-MODIFIED:20260415T023230Z
UID:931-1787128200-1787328000@smart-training-center.com
SUMMARY:Vibration Analysis
DESCRIPTION:Background & About the Course:\nVibration analysis is a critical component of predictive maintenance programs and reliability engineering. It enables engineers and technicians to identify potential issues in mechanical systems\, minimizing downtime and extending equipment lifespan. By understanding vibration patterns\, professionals can detect imbalances\, misalignments\, looseness\, and other issues that could lead to significant failures. \nThis course offers a comprehensive approach to vibration analysis\, combining theoretical knowledge with practical applications. Participants will learn about the principles of vibration\, measurement techniques\, and data interpretation. The training will provide a strong foundation for professionals seeking to enhance their skills in diagnosing and troubleshooting vibration-related problems. \nOver the span of three days\, attendees will explore modern tools and methodologies\, engage in hands-on exercises\, and review case studies to reinforce learning. The course is designed to equip participants with actionable insights to improve equipment reliability and operational efficiency. \nCourse Objectives:\n\nUnderstand the fundamental principles of vibration and its role in predictive maintenance.\nIdentify the causes and effects of excessive vibration in mechanical systems.\nUtilize vibration measurement tools and techniques effectively.\nAnalyze and interpret vibration data for fault diagnosis.\nApply vibration analysis to enhance machine reliability and reduce operational risks.\n\nWho Should Attend:\n\nMaintenance engineers and technicians.\nReliability engineers.\nCondition monitoring specialists.\nPlant managers and supervisors.\nProfessionals involved in equipment maintenance and performance optimization.\n\nCourse Content:\n\nIntroduction to Vibration Analysis\n\nDefinition and importance of vibration analysis\nBasic concepts of vibration: amplitude\, frequency\, and phase\nOverview of vibration analysis in predictive maintenance\n\n\nVibration Measurement Techniques\n\nTypes of vibration sensors and their applications\nBest practices for sensor installation and data acquisition\nHands-on demonstration of measurement tools\n\n\nUnderstanding Vibration Signals\n\nTime-domain and frequency-domain analysis\nIntroduction to Fast Fourier Transform (FFT)\nSignal filtering and noise reduction techniques\n\n\nFault Diagnosis Using Vibration Analysis\n\nIdentifying common issues: imbalance\, misalignment\, and looseness\nCase studies on real-world machinery problems\nRoot cause analysis and corrective actions\n\n\nAdvanced Topics in Vibration Analysis\n\nCondition monitoring strategies\nIntegration of vibration analysis with other predictive maintenance tools\nTrends in vibration analysis technology and future outlook\n\n\nPractical Applications and Hands-On Exercises\n\nData collection and analysis using software tools\nInterpreting and reporting vibration analysis findings\nGroup exercises and troubleshooting scenarios\n\n\n\nAbout the course leader:\nCecep Slamet Abadi\, S.T.\, M.T\n  \nPublic Training berikutnya : 14 – 16 Desember\, 2026
URL:https://smart-training-center.com/event/vibration-analysis/
LOCATION:Bandung\, Jawa Barat\, Indonesia
CATEGORIES:Engineering,Maintenance,Mechanical
ATTACH;FMTTYPE=image/jpeg:https://smart-training-center.com/wp-content/uploads/2024/11/VIBRATION-ANALYSIS.jpg
ORGANIZER;CN="PT Fiqry Jaya Manunggal":MAILTO:info@fiqry.com
END:VEVENT
END:VCALENDAR