BEGIN:VCALENDAR
VERSION:2.0
PRODID:-//Smart Training Center - ECPv6.15.20//NONSGML v1.0//EN
CALSCALE:GREGORIAN
METHOD:PUBLISH
X-WR-CALNAME:Smart Training Center
X-ORIGINAL-URL:https://smart-training-center.com
X-WR-CALDESC:Events for Smart Training Center
REFRESH-INTERVAL;VALUE=DURATION:PT1H
X-Robots-Tag:noindex
X-PUBLISHED-TTL:PT1H
BEGIN:VTIMEZONE
TZID:Asia/Krasnoyarsk
BEGIN:STANDARD
TZOFFSETFROM:+0700
TZOFFSETTO:+0700
TZNAME:+07
DTSTART:20240101T000000
END:STANDARD
END:VTIMEZONE
BEGIN:VEVENT
DTSTART;TZID=Asia/Krasnoyarsk:20250812T083000
DTEND;TZID=Asia/Krasnoyarsk:20250815T160000
DTSTAMP:20260422T212155
CREATED:20241122T163237Z
LAST-MODIFIED:20241122T163237Z
UID:1034-1754987400-1755273600@smart-training-center.com
SUMMARY:Sertifikasi PPPU Poipu Emisi Udara
DESCRIPTION:Sertifikasi PPPU Poipu Emisi Udara | sertifikasi PPPU emisi udara | sertifikasi-pppu-poipu-emisi-udara Dapatkan sertifikasi PPPU untuk pengelolaan emisi udara. Tingkatkan kompetensi Anda di bidang lingkungan dan industri. | Earn PPPU certification for air emission management. Advance your expertise in industrial and environmental compliance. | Ir. Dwi Handaya* MK3 | Q-HSE
URL:https://smart-training-center.com/event/sertifikasi-pppu-poipu-emisi-udara/
LOCATION:Jakarta
ORGANIZER;CN="PT Fiqry Jaya Manunggal":MAILTO:info@fiqry.com
END:VEVENT
END:VCALENDAR