BEGIN:VCALENDAR
VERSION:2.0
PRODID:-//Smart Training Center - ECPv6.15.20//NONSGML v1.0//EN
CALSCALE:GREGORIAN
METHOD:PUBLISH
X-ORIGINAL-URL:https://smart-training-center.com
X-WR-CALDESC:Events for Smart Training Center
REFRESH-INTERVAL;VALUE=DURATION:PT1H
X-Robots-Tag:noindex
X-PUBLISHED-TTL:PT1H
BEGIN:VTIMEZONE
TZID:Asia/Krasnoyarsk
BEGIN:STANDARD
TZOFFSETFROM:+0700
TZOFFSETTO:+0700
TZNAME:+07
DTSTART:20250101T000000
END:STANDARD
END:VTIMEZONE
BEGIN:VEVENT
DTSTART;TZID=Asia/Krasnoyarsk:20260714T083000
DTEND;TZID=Asia/Krasnoyarsk:20260716T160000
DTSTAMP:20260422T013716
CREATED:20241122T165033Z
LAST-MODIFIED:20260413T042652Z
UID:1053-1784017800-1784217600@smart-training-center.com
SUMMARY:Relay Protection
DESCRIPTION:About the Course:\nIn the electrical power industry\, the reliability and safety of power systems are paramount. Relay protection systems play a critical role in safeguarding equipment and ensuring uninterrupted power supply by isolating faults and preventing damage. A well-designed relay protection system can minimize downtime\, improve system stability\, and enhance operational safety. \nThis 3-day training course is designed to provide participants with a comprehensive understanding of relay protection principles\, configurations\, and applications. Combining theoretical knowledge with practical insights\, the course aims to equip participants with the skills required to design\, operate\, and maintain reliable protection systems in compliance with industry standards. \nCourse Objectives:\n\nUnderstand the fundamentals of relay protection and its role in power system reliability.\nLearn the operating principles of various types of relays.\nGain insights into the coordination and setting of protective relays.\nFamiliarize with international standards and best practices for relay protection.\nDevelop skills to analyze and troubleshoot relay protection systems effectively.\n\nWho Should Attend:\n\nElectrical engineers and technical personnel working in the power generation\, transmission\, or distribution sectors.\nMaintenance and operations personnel responsible for electrical protection systems.\nProject managers and consultants involved in power system projects.\nProfessionals seeking to expand their expertise in power system protection\n\nCourse Content:\n\nIntroduction to Relay Protection\n\nOverview of relay protection and its importance in power systems.\nTypes and classifications of relays.\n\n\nOperating Principles of Relays\n\nElectromechanical\, static\, and numerical relays.\nFunctionality and characteristics of overcurrent\, distance\, and differential relays.\n\n\nProtection Schemes and Applications\n\nCommon protection schemes for transformers\, generators\, and transmission lines.\nPractical case studies.\n\n\nRelay Coordination and Settings\n\nPrinciples of relay coordination.\nCalculations and setting procedures.\n\n\nStandards and Best Practices\n\nOverview of IEC and IEEE standards.\nCompliance requirements and industry practices.\n\n\nTroubleshooting and Analysis\n\nTechniques for fault analysis and relay testing.\nTools and methodologies for troubleshooting.\n\n\nPractical Exercises and Simulations\n\nHands-on activities to reinforce learning.\nSimulation of relay operations and fault scenarios.\n\n\n\nAbout the course leader:\nDR. Toto Tohir\, ST.\, MT/ Ali Mashar\, M.Eng.Sc.\, IPU   \nPublic Training berikutnya : 20 – 22 Oktober\, 2026
URL:https://smart-training-center.com/event/relay-protection/
LOCATION:Bandung\, Jawa Barat\, Indonesia
CATEGORIES:Electrical,Engineering
ATTACH;FMTTYPE=image/jpeg:https://smart-training-center.com/wp-content/uploads/2024/09/Relay.jpg
ORGANIZER;CN="PT Fiqry Jaya Manunggal":MAILTO:info@fiqry.com
END:VEVENT
END:VCALENDAR