BEGIN:VCALENDAR
VERSION:2.0
PRODID:-//Smart Training Center - ECPv6.15.20//NONSGML v1.0//EN
CALSCALE:GREGORIAN
METHOD:PUBLISH
X-ORIGINAL-URL:https://smart-training-center.com
X-WR-CALDESC:Events for Smart Training Center
REFRESH-INTERVAL;VALUE=DURATION:PT1H
X-Robots-Tag:noindex
X-PUBLISHED-TTL:PT1H
BEGIN:VTIMEZONE
TZID:Asia/Krasnoyarsk
BEGIN:STANDARD
TZOFFSETFROM:+0700
TZOFFSETTO:+0700
TZNAME:+07
DTSTART:20250101T000000
END:STANDARD
END:VTIMEZONE
BEGIN:VEVENT
DTSTART;TZID=Asia/Krasnoyarsk:20260615T083000
DTEND;TZID=Asia/Krasnoyarsk:20260617T160000
DTSTAMP:20260422T022434
CREATED:20241122T160421Z
LAST-MODIFIED:20260310T072131Z
UID:979-1781512200-1781712000@smart-training-center.com
SUMMARY:Process Control & Instrument System
DESCRIPTION:Background\nControl systems play a crucial role in modern industrial processes\, ensuring efficiency\, accuracy\, and stability. The ability to design\, analyze\, and optimize these systems is essential for maintaining consistent operation and improving performance. \nThis course is designed to equip participants with a strong foundation in control system principles and practices. From understanding core terminology and analyzing time-domain responses to mastering PID control modes and advanced tuning methods\, participants will gain the skills needed to implement and troubleshoot control systems effectively. \n\nObjectives\nAfter completing this course\, participants will be able to: \n\nUnderstand key control system terminology.\nAnalyze time-domain responses in control systems.\nExplain the types of control modes (PID) and their algorithms.\nApply cascade control in industrial settings.\nDifferentiate between feedback and feedforward control systems.\nUtilize various methods for PID tuning to enhance system performance.\n\n\nRecommended Participants\nThis course is ideal for professionals involved in control system operations\, including: \n\nOperators and Instrument Technicians.\nInstrument Foremen and Control System Technicians.\nInstrument Engineers and Supervisors.\nControl System Supervisors.\nIT System Integrators specializing in industrial automation.\n\n\nCourse Outline\n1. Control System Terminology\n\nControl system input and output.\nOpen-loop and closed-loop control systems.\nFeedback\, controlled variable\, manipulated variable\, and disturbances.\nProcess time lags and control loop diagrams.\n\n2. Time Domain Analysis\n\nTransient and steady-state response.\nTime domain input functions.\nLaplace transform and transfer functions.\nTime-domain response for first- and second-order systems.\nStep response analysis.\n\n3. Control Modes – PID Controller\n\nON/OFF control.\nProportional\, integral\, and derivative control modes.\nVariations of PID control (PI\, PD\, PID).\n\n4. Cascade Loop Control\n\nAdvantages of cascade control.\nComponents of cascade control.\nCascade primary and secondary loops.\nPractical examples of cascade control applications.\n\n5. Feedback & Feedforward Control\n\nComparison between feedback and feedforward control systems.\nLimitations and advantages of each control method.\n\n6. PID Controller Tuning\n\nPID tuning methods: Ziegler-Nichols closed-loop method and Cohen-Coon method.\nDemonstrations and hands-on exercises for each tuning method.\n\n\nMethodology\n\nInstructor-led theory presentations.\nGroup discussions and case-solving exercises.\nLaboratory or field visits for practical demonstrations.\nCase studies based on real-world scenarios.\n\nThis course combines theoretical learning with practical applications to ensure participants can confidently apply their knowledge in professional settings. \nAbout the Course Leader:\nProf. Endra Joelianto\, Ir.\, Ph.D.\, SMIEEE \nPublic Training berikutnya : 10 – 12 Agustus\, 2026
URL:https://smart-training-center.com/event/process-control-instrument-system/
LOCATION:Bandung\, Jawa Barat\, Indonesia
CATEGORIES:Electrical,Production Operation
ATTACH;FMTTYPE=image/jpeg:https://smart-training-center.com/wp-content/uploads/2024/11/instrumentation-electrical-and-control-system-1.jpg
ORGANIZER;CN="PT Fiqry Jaya Manunggal":MAILTO:info@fiqry.com
END:VEVENT
END:VCALENDAR