BEGIN:VCALENDAR
VERSION:2.0
PRODID:-//Smart Training Center - ECPv6.15.20//NONSGML v1.0//EN
CALSCALE:GREGORIAN
METHOD:PUBLISH
X-WR-CALNAME:Smart Training Center
X-ORIGINAL-URL:https://smart-training-center.com
X-WR-CALDESC:Events for Smart Training Center
REFRESH-INTERVAL;VALUE=DURATION:PT1H
X-Robots-Tag:noindex
X-PUBLISHED-TTL:PT1H
BEGIN:VTIMEZONE
TZID:Asia/Krasnoyarsk
BEGIN:STANDARD
TZOFFSETFROM:+0700
TZOFFSETTO:+0700
TZNAME:+07
DTSTART:20250101T000000
END:STANDARD
END:VTIMEZONE
BEGIN:VEVENT
DTSTART;TZID=Asia/Krasnoyarsk:20260622T083000
DTEND;TZID=Asia/Krasnoyarsk:20260624T160000
DTSTAMP:20260422T043340
CREATED:20241122T102928Z
LAST-MODIFIED:20260331T004338Z
UID:921-1782117000-1782316800@smart-training-center.com
SUMMARY:P&ID dan Logic Diagram
DESCRIPTION:BACKGROUND & OBJECTIVES:\nProcess and Instrumentation Diagrams (P&ID) and logic diagrams are essential tools in the design\, operation\, and maintenance of power plants. These diagrams visually represent process flows\, control loops\, and the interaction of various components\, enabling engineers and operators to understand the operational sequences and troubleshoot issues effectively. \nLogic diagram menyajikan detail yang secara skematis memperlihatkan semua instrument peralatan yang akan mempengaruhi berlangsungnya pengaturan yang bersifat sekuensial yaitu peralatan-peralatan yang berpengaruh dalam berlangsungnya pengaturan seperti Switch\, Timer\, dan memor yang mempunyai keluaran sebagai pengenali/menjalankan Pompa\, Katup\, Compresor dan sebagainya. \nSchematic diagram dibuat untuk memperlihatkan semua peralatan listrik yang digunakan meliputi shematic control diagram seperti phenumatic dan hydraulic dan electrical schematic diagram yang memperlihatkan semua peralatan listrik yng digunakan\, hal ini akan membantu untuk dapat mengerti operasional sistem peralatan maupun proses tersebut dengan cepat\, sehingga memudahkan dalam hal mencari gangguan dan pemeriksaan. Schematic diagram ini ada yang diperuntukan pada schematic control diagram\, yang menerangkan dan menjelaskan fungsi-fungsi dari bermacam-macam komponen control. Oleh karenanya uraian yang akan disajikan dalam training ini menitikberatkan pada pemahaman terhadap rangkaian operasi suatu peralatan melalui rangkaian Logic dan Sekuensialnya berupa contoh-contoh kecil untuk memahami schematic dan logic diagram yang lebih kompleks yang ada di tiap-tiap Pembangkit \nCOURSE OBJECTIVES:\nSetelah mengikuti training P&ID Logic Diagram ini peserta diharapkan: \n\nUnderstand P&ID and logic gate fundamentals\nDevelop skills in process control and instrumentation symbology\nInterpret and analyze power plant P&ID diagrams\nGain insights into logical sensors\, actuators\, and circuits\nMap control circuits and ladder diagrams for system troubleshooting\n\nWHO SHOUD ATTEND:\n\nEngineers – Power Plant and Process Engineers involved in design\, operation\, and maintenance\nSupervisors – Plant supervisors responsible for operational oversight and compliance\nTechnicians – Maintenance and Instrumentation Technicians working with process control systems\nOperators – Power plant operators managing daily operations and system monitoring\nProject Team Members – Personnel involved in system upgrades or development projects\nHSE Professionals – Health\, Safety\, and Environment staff ensuring safe operational practices\n\nCOURSE CONTENTS:\n\n\n\nIntroduction to Process Diagrams and P&ID\n\nOverview of P&ID and its role in power plant operations\nImportance of accurate process diagrams for troubleshooting and system analysis\nKey differences between block diagrams\, schematics\, and P&ID\n\n\nProcess Control and Instrumentation Fundamentals\n\nFundamental concepts of process control loops (open/closed loops)\nRole of instrumentation in power plant efficiency and safety\nIntroduction to control devices (valves\, sensors\, and transmitters)\n\n\nInstrumentation Symbology in P&ID\n\nStandard symbols used for instrumentation and control devices\nISA (Instrumentation Society of America) and IEC standards\nPractical exercises in reading and creating P&ID\n\n\nP&ID for Power Plants\n\nSpecific applications of P&ID in power generation systems\nBoiler\, turbine\, and auxiliary system diagrams\nAnalyzing and interpreting complex power plant diagrams\n\n\nAutomatic Control Systems and Responses\n\nOverview of Distributed Control Systems (DCS) and SCADA\nSystem response to process changes (alarms\, interlocks\, and safety systems)\nReal-time monitoring and feedback loops\n\n\nUnderstanding Logic Sequences and Control\n\nBasic logic gate operations (AND\, OR\, NOT\, XOR)\nApplication of logic sequences in automated plant operations\n\n\nLogical Sensors and Actuators\n\nTypes of sensors (temperature\, pressure\, flow) and their functions\nActuator types and their role in executing control logic\nIntegration of sensors and actuators in system control\n\n\nLogical Circuits and Components\n\nDesigning and interpreting logical circuits\nKey components: relays\, switches\, and solenoids\nTroubleshooting faults in logical circuit designs\n\n\nMapping Control Circuits and Ladder Diagrams\n\nLadder diagram structure and design principles\nMapping control logic into practical circuit designs\nHands-on practice in developing ladder diagrams\n\n\nPower Plant Sequence Control Systems\n\n\nOverview of sequence control in power plant operations\nExamples of start-up\, shutdown\, and emergency sequences\nTechniques for optimizing and updating sequence control\n\n\n\nABOUT THE TRAINER:\nIr. Ali Mashar\, M.Eng.Sc atauToto Tohir\, ST.\, MT \nIr. Ali Mashar\, M.Eng.Sc\, is graduated from New South Wales University (UNSW) Sydney Australia. His core expertise is power and control or electric engineering. \nHe used to be Head of Study program of energy conversion engineering Poltek ITB (POLBAN) and being lecturer there. And also He has been head of laboratory of energy engineering PEDC and becoming lecturer. He has taught some topics in training class for participants from various companies in Indonesia. \nPublic Training Berikutnya: Bandung\, 15-17 September\, 2026\nBandung\, 14-16 Desember\, 2026
URL:https://smart-training-center.com/event/pid-dan-logic-diagram/
LOCATION:Bandung\, Jawa Barat\, Indonesia
CATEGORIES:Electrical,Instrument and control,Production Operation,Project
ATTACH;FMTTYPE=image/jpeg:https://smart-training-center.com/wp-content/uploads/2024/11/Electrical-Wiring-Diagram-Electrical-Control-System-1.jpg
ORGANIZER;CN="PT Fiqry Jaya Manunggal":MAILTO:info@fiqry.com
END:VEVENT
END:VCALENDAR