BEGIN:VCALENDAR
VERSION:2.0
PRODID:-//Smart Training Center - ECPv6.15.20//NONSGML v1.0//EN
CALSCALE:GREGORIAN
METHOD:PUBLISH
X-ORIGINAL-URL:https://smart-training-center.com
X-WR-CALDESC:Events for Smart Training Center
REFRESH-INTERVAL;VALUE=DURATION:PT1H
X-Robots-Tag:noindex
X-PUBLISHED-TTL:PT1H
BEGIN:VTIMEZONE
TZID:Asia/Krasnoyarsk
BEGIN:STANDARD
TZOFFSETFROM:+0700
TZOFFSETTO:+0700
TZNAME:+07
DTSTART:20250101T000000
END:STANDARD
END:VTIMEZONE
BEGIN:VEVENT
DTSTART;TZID=Asia/Krasnoyarsk:20260713T083000
DTEND;TZID=Asia/Krasnoyarsk:20260715T160000
DTSTAMP:20260422T061312
CREATED:20241122T160351Z
LAST-MODIFIED:20260413T035844Z
UID:967-1783931400-1784131200@smart-training-center.com
SUMMARY:Operasi Generator & Trafo Daya
DESCRIPTION:Background & About the Course \nGenerators and power transformers are essential components in electricity generation and distribution systems\, responsible for producing\, converting\, and reliably delivering electrical energy to various applications. Effective and efficient operation of this equipment requires a deep technical understanding of their principles\, characteristics\, and potential operational challenges. As technology evolves and the complexity of power systems increases\, it is crucial for the workforce to possess up-to-date competencies to ensure optimal performance and prevent operational disruptions. \nThis training is designed to provide comprehensive knowledge of the fundamental operating principles of generators and power transformers\, along with operational and maintenance techniques. Participants will gain skills in understanding system configurations\, managing electrical loads\, and identifying and addressing issues that arise during operation. Additionally\, the program emphasizes the importance of workplace safety and compliance with quality and reliability standards in power systems to support operational sustainability and enhance energy efficiency. \nCourse Objectives\n\nUnderstand the configuration and equipment in industrial power plant systems.\nRecognize the construction of generators.\nInstall\, operate\, and control generators effectively.\nUnderstand protection systems for generators.\nIdentify the construction of power transformers and their supporting components.\nConnect\, install\, and operate power transformers.\nUnderstand protection systems for transformers.\n\nWho Should Attend\n\nSupervisors\, Technicians\, and Control Operators\nOperational Staff and Engineers\n\nCourse Outline\n\nFundamentals of Generators and Electrical Installations\n\n\nOperating principles\, installation characteristics\, generator specifications\, and Automatic Voltage Regulation (AVR) systems.\n\n\nOperation Procedures\n\n\nProcedures for starting and stopping steam power plants.\nCritical operational symptoms: Overpressure\, negative pressure\, load fluctuations.\nControl systems for rotation and load.\n\n\nOverview of Electrical Power Systems\n\n\nIndustrial power plant system overview\, types of distribution networks\, and switchgear.\n\n\nElectrical Power and Power Factor\n\n\nEnergy and power concepts\, types of electrical loads\, active power\, reactive power\, and apparent power.\n\n\nElectrical Power Generators\n\n\nConstruction\, principles of electrical power generation\, excitation systems\, and AVR.\n\n\nGenerator Operation\n\n\nGenerator characteristics\, capability curves\, and parallel operation.\n\n\nGenerator Control\n\n\nActive power control\, load sharing\, load shedding\, and reactive power control.\n\n\nGenerator Protection\n\n\nGround fault\, differential protection\, unbalanced loading\, loss of excitation\, and out-of-step conditions.\n\n\nElectrical Power Transformers\n\n\nConstruction\, operating principles\, types\, cooling classifications\, components\, and indicators.\n\n\nTransformer Operation\n\n\nInterpreting nameplate data\, vector groups\, and transformer sizing and selection guidelines.\n\n\nTransformer Protection\n\n\nShort circuit/overload protection\, unbalance protection\, over-temperature protection\, and overpressure protection.\n\n\n\nABOUT THE COURSE LEADER:\nSupriyanto\, S.T\, M.T  \nMemperoleh gelar sarjana Teknik Elektro Universitas Diponegoro & Magister Teknik dari ITB dengan spesialiasasi di bidang Teknik Tenaga Listrik dan Power System Teknologi. \nSelain pendidikan formil\, Pak Supriyanto juga ber-sertifikat sebagai: \n\n6 bulan training dari Swiss Contact tentang Teknik Tegangan Tinggi\n18 bulan training tentang Teaching Methodology for Industrial & Electrical Engineering\nCertified Assessor Teknik Ketenagalistrikan – Kementrian ESDM\nCertified Ahli Madya Instalasi Listrik – BNSP\nCertified Ahli K3 Listrik – BNSP\n\nPublic Training berikutnya : 12 – 14 Oktober\, 2026
URL:https://smart-training-center.com/event/operasi-generator-trafo-daya/
LOCATION:Bandung\, Jawa Barat\, Indonesia
CATEGORIES:Electrical,Power Generation
ATTACH;FMTTYPE=image/jpeg:https://smart-training-center.com/wp-content/uploads/2024/09/Pemeliharaan-Transformator-Industri.jpg
ORGANIZER;CN="PT Fiqry Jaya Manunggal":MAILTO:info@fiqry.com
END:VEVENT
END:VCALENDAR