BEGIN:VCALENDAR
VERSION:2.0
PRODID:-//Smart Training Center - ECPv6.15.20//NONSGML v1.0//EN
CALSCALE:GREGORIAN
METHOD:PUBLISH
X-ORIGINAL-URL:https://smart-training-center.com
X-WR-CALDESC:Events for Smart Training Center
REFRESH-INTERVAL;VALUE=DURATION:PT1H
X-Robots-Tag:noindex
X-PUBLISHED-TTL:PT1H
BEGIN:VTIMEZONE
TZID:Asia/Krasnoyarsk
BEGIN:STANDARD
TZOFFSETFROM:+0700
TZOFFSETTO:+0700
TZNAME:+07
DTSTART:20240101T000000
END:STANDARD
END:VTIMEZONE
BEGIN:VEVENT
DTSTART;TZID=Asia/Krasnoyarsk:20250602T083000
DTEND;TZID=Asia/Krasnoyarsk:20250604T160000
DTSTAMP:20260422T170741
CREATED:20241122T160451Z
LAST-MODIFIED:20250105T020213Z
UID:989-1748853000-1749052800@smart-training-center.com
SUMMARY:Manajemen Transisi Energi ke Arah Energi Terbarukan
DESCRIPTION:Background & About the Course:\nTransisi energi menuju penggunaan energi terbarukan merupakan langkah penting untuk mencapai keberlanjutan dan mengurangi dampak perubahan iklim. Dalam konteks global\, perusahaan dan organisasi menghadapi tantangan dan peluang untuk mengadaptasi strategi mereka menuju sumber energi yang lebih ramah lingkungan. Hal ini membutuhkan pemahaman mendalam tentang teknologi\, kebijakan\, dan manajemen yang mendukung transisi energi. \nPelatihan ini dirancang untuk memberikan wawasan strategis dan teknis mengenai manajemen transisi energi ke arah energi terbarukan. Peserta akan mempelajari kerangka kerja transisi energi\, teknologi energi terbarukan\, analisis ekonomi\, serta pengelolaan proyek transisi energi. Melalui diskusi interaktif\, studi kasus\, dan praktik langsung\, pelatihan ini membantu peserta memahami bagaimana menerapkan strategi transisi energi yang efektif dalam organisasi mereka. \nCourse Objectives:\n\nMemahami konsep dasar dan pentingnya transisi energi.\nMengidentifikasi teknologi energi terbarukan dan aplikasinya.\nMenganalisis dampak ekonomi dan lingkungan dari transisi energi.\nMengembangkan strategi transisi energi yang sesuai untuk organisasi.\nMengelola proyek transisi energi dengan pendekatan yang efisien.\n\nWho Should Attend:\n\nManajer dan pemimpin di sektor energi.\nProfesional di bidang kebijakan energi dan keberlanjutan.\nInsinyur dan teknisi yang bekerja di sektor energi terbarukan.\nKonsultan dan akademisi yang tertarik pada topik transisi energi.\nSiapa pun yang ingin memahami dan terlibat dalam transisi energi.\n\nCourse Content:\n\nPengenalan Transisi Energi\n\nDefinisi dan urgensi transisi energi\nTantangan global dan peluang dalam transisi energi\n\n\nTeknologi Energi Terbarukan\n\nSolar\, wind\, hydro\, biomass\, dan geothermal\nIntegrasi energi terbarukan dalam jaringan listrik\n\n\nKebijakan dan Regulasi Energi\n\nKebijakan internasional dan nasional tentang energi terbarukan\nInsentif dan mekanisme pendukung transisi energi\n\n\nAnalisis Ekonomi dan Lingkungan\n\nAnalisis biaya manfaat dari proyek energi terbarukan\nDampak lingkungan dari transisi energi\n\n\nStrategi Implementasi Transisi Energi\n\nPerencanaan dan pengembangan roadmap transisi energi\nPendekatan kolaboratif dalam implementasi transisi energi\n\n\nManajemen Proyek Energi Terbarukan\n\nPrinsip dasar manajemen proyek\nStudi kasus proyek transisi energi yang berhasil\n\n\nTren dan Masa Depan Transisi Energi\n\nInovasi dalam teknologi energi terbarukan\nMasa depan transisi energi di pasar global\n\n\n\n\n\nABOUT THE TRAINER:\nIr. Ali Mashar\, M.Eng.Sc.\, IPU graduated from New South Wales University (UNSW) Sydney Australia. His core expertise is power and control or electrical engineering. His core expertise is power and control or electrical engineering. He was the Head Energy Conversion Engineering of Politeknik ITB (POLBAN) and lecturer. He is also Head of the laboratory of energy engineering PEDC. \nAli Mashar has delivered in-house & public training classes since 2010 covering specific topics on electrical & control system\, energy conservation. Companies where he shares his expertise are local & multinational companies such as: Indonesia Power\, Pemda Papua\, PT. Badak\, Cogindo\, Star Energi\, Chevron\, Freeport and some others. Other than teaching he has done many real projects related to power generation and many energy audits.
URL:https://smart-training-center.com/event/manajemen-transisi-energi-ke-arah-energi-terbarukan/
LOCATION:Bandung\, Jawa Barat\, Indonesia
CATEGORIES:General,Manajemen,Power Generation
ATTACH;FMTTYPE=image/jpeg:https://smart-training-center.com/wp-content/uploads/2024/11/Manajemen-Transisi-Energi.jpg
ORGANIZER;CN="PT Fiqry Jaya Manunggal":MAILTO:info@fiqry.com
END:VEVENT
END:VCALENDAR