BEGIN:VCALENDAR
VERSION:2.0
PRODID:-//Smart Training Center - ECPv6.15.20//NONSGML v1.0//EN
CALSCALE:GREGORIAN
METHOD:PUBLISH
X-ORIGINAL-URL:https://smart-training-center.com
X-WR-CALDESC:Events for Smart Training Center
REFRESH-INTERVAL;VALUE=DURATION:PT1H
X-Robots-Tag:noindex
X-PUBLISHED-TTL:PT1H
BEGIN:VTIMEZONE
TZID:Asia/Krasnoyarsk
BEGIN:STANDARD
TZOFFSETFROM:+0700
TZOFFSETTO:+0700
TZNAME:+07
DTSTART:20250101T000000
END:STANDARD
END:VTIMEZONE
BEGIN:VEVENT
DTSTART;TZID=Asia/Krasnoyarsk:20260603T083000
DTEND;TZID=Asia/Krasnoyarsk:20260605T160000
DTSTAMP:20260422T003504
CREATED:20241122T102929Z
LAST-MODIFIED:20260225T085511Z
UID:923-1780475400-1780675200@smart-training-center.com
SUMMARY:Electrical Wiring Diagram and Electrical Control System
DESCRIPTION:BACKGROUND & ABOUT THE COURSE:\nUnderstanding and interpreting electrical wiring diagrams is fundamental to the operation\, maintenance\, and troubleshooting of power systems. Technicians and engineers must have the ability to read and analyze electrical schematics to ensure the safe and efficient performance of equipment. This course is designed to provide participants with a comprehensive understanding of various types of electrical diagrams used across industries\, enhancing their ability to draw\, interpret\, and apply these diagrams effectively. \nBy developing a strong foundation in electrical diagram analysis\, participants will acquire essential skills in diagnosing and troubleshooting electrical systems. This structured approach significantly improves system reliability\, operational efficiency\, and safety in industrial environments. \nOBJECTIVES:\n\nDevelop skills to read and interpret electrical wiring diagrams and control circuits\nEnhance troubleshooting capabilities to maintain and repair electrical systems\nGain technical proficiency in PLC wiring\, cable preparation\, and electrical component analysis\nImprove system reliability and ensure operational safety in industrial environments\n\nRECOMMENDED PARTICIPANTS:\n\nEngineers and Supervisors\nTechnicians and Operators in Instrumentation\, Production\, and Operations\nProfessionals in Communication\, Networking\, IT\, and Reliability\nIndividuals seeking to enhance industrial control and automation performance\n\nCOURSE OUTLINE:\n\nSafety and Standards\nTypes of Wiring Diagrams:\n\nSite Plan (Plan View)\nPhysical Diagram\nSchematics\nConstruction Wiring Diagram\nBlock Diagram\nOnline Block Diagram\nThree-line Block Diagram\nInterconnect Wiring Diagram\n\n\nWire Types and Preparation\nSoldering and Termination Techniques\nCable Forming and Routing\nConnection and Routing\nHardware Components\nActive Electrical Components\nPassive Electrical Components\nSwitches and Indicator Lamps\nEarthing and Screening Techniques\nIntroduction to Control Systems\nPLC Wiring and Integration\n\nABOUT THE COURSE LEADERS:\nSupriyanto\, S.T.\, M.T/ Ali Mashar\, M.Eng.Sc.\, IPU\n  \nPublic Training berikutnya : 23 – 25 September\, 2026 | 23 – 25 November\, 2026
URL:https://smart-training-center.com/event/electrical-wiring-diagram-electrical-control-system/
LOCATION:Bandung\, Jawa Barat\, Indonesia
CATEGORIES:Electrical,Instrument and control,Maintenance,Production Operation
ATTACH;FMTTYPE=image/jpeg:https://smart-training-center.com/wp-content/uploads/2024/11/Electrical-Wiring-Diagram-Electrical-Control-System.jpg
ORGANIZER;CN="PT Fiqry Jaya Manunggal":MAILTO:info@fiqry.com
END:VEVENT
END:VCALENDAR