BEGIN:VCALENDAR
VERSION:2.0
PRODID:-//Smart Training Center - ECPv6.15.20//NONSGML v1.0//EN
CALSCALE:GREGORIAN
METHOD:PUBLISH
X-WR-CALNAME:Smart Training Center
X-ORIGINAL-URL:https://smart-training-center.com
X-WR-CALDESC:Events for Smart Training Center
REFRESH-INTERVAL;VALUE=DURATION:PT1H
X-Robots-Tag:noindex
X-PUBLISHED-TTL:PT1H
BEGIN:VTIMEZONE
TZID:Asia/Krasnoyarsk
BEGIN:STANDARD
TZOFFSETFROM:+0700
TZOFFSETTO:+0700
TZNAME:+07
DTSTART:20250101T000000
END:STANDARD
END:VTIMEZONE
BEGIN:VEVENT
DTSTART;TZID=Asia/Krasnoyarsk:20260706T083000
DTEND;TZID=Asia/Krasnoyarsk:20260708T160000
DTSTAMP:20260422T035648
CREATED:20241122T100848Z
LAST-MODIFIED:20260415T042915Z
UID:891-1783326600-1783526400@smart-training-center.com
SUMMARY:Instrumentation\, Electrical and Control System
DESCRIPTION:About the Course:\nThis course provides a comprehensive overview of Instrumentation\, Electrical\, and Control Systems\, covering core concepts essential for modern industrial environments. Participants will explore the principles behind industrial instrumentation\, electrical components\, and the integration of control systems that drive automation and process optimization. The program delves into key areas such as sensors\, signal transmission\, actuators\, and the operation of PID controllers within PLC and DCS frameworks. \nThe objective of this course is to equip participants with a strong understanding of the electronics behind instruments\, interface devices\, and control systems. Emphasis is placed on developing practical skills for configuring\, maintaining\, and tuning industrial control systems. By addressing both basic and advanced configurations of PID controllers\, the course aims to enhance the participants’ ability to ensure stability and reliability in industrial processes. \nCourse Objectives:\nUpon completion\, participants will be proficient in understanding and applying the principles of instrumentation\, electrical systems\, and process control. They will gain hands-on experience with essential tools and techniques for system analysis\, troubleshooting\, and performance enhancement\, contributing to more efficient and effective industrial operations. \nWho Should Attend:\n\nControl system operators responsible for maintaining and optimizing industrial processes.\nElectrical and instrumentation technicians involved in system installation and maintenance.\nEngineers engaged in the design\, implementation\, and improvement of control systems.\nProject managers overseeing automation and instrumentation projects.\n\nCourse Content:\n\nIntroduction to Instrumentation\, Electrical\, and Control Systems\nStatic and Dynamic Characteristics of Instruments and Electrical Devices\nCore Components of Instrumentation and Electrical Systems\nSensor Types\, Functions\, and Industrial Applications\nActuators and Their Role in Control Systems\nSignal Transmission\, Interfacing\, and Digital Communication\nInstrumentation and Electrical System Electronics\nFeedback Concepts and Loop Control\nAnalysis and Optimization of Feedback Systems\nPID Controllers: Configuration\, Tuning\, and Implementation\nElectrical Control System Design and Troubleshooting\nPractical Techniques for PID Tuning and Performance Enhancement\nLaboratory Exercises and Real-World Demonstrations\n\nAbout the Trainer:\nProf. Endra Joelianto\, Ir.\, Ph.D.\, SMIEEE \nHolds an Engineering Physics degree from ITB (1990) and a Ph.D. in Control Engineering from The Australian National University (2001). Expert in control engineering\, specializing in Hybrid Control Systems\, Discrete Event Control Systems\, Petri Nets\, Robust PID Controllers\, Advanced Process Control\, and Industrial Automation using PLC/DCS. \nProf. Endra is the coordinator of Intelligent Control and Automation and founder of the PLC Research Group at the Instrumentation and Control Laboratory (LINK)\, ITB. Established the Schneider-OMRON PLC Training Center at Maranatha Christian University\, collaborating with Schneider Electric Indonesia\, OMRON Japan\, and Invensys WONDERWARE. \nProf. Endra has led several industrial automation and control training programs\, including TPSDP Retooling Projects\, and attended professional training in PLC\, DCS\, and instrumentation calibration in Indonesia\, Singapore\, and South Africa. He regularly instructs public\, university\, and in-house training for leading companies and institutions in the petrochemical\, oil\, gas\, and manufacturing sectors. \nPublic Training berikutnya : 21 – 23 September\, 2026 | 3 – 5 Desember\, 2026
URL:https://smart-training-center.com/event/electrical-instrument-and-control-system/
CATEGORIES:Electrical,Engineering,Instrument and control,Maintenance
ATTACH;FMTTYPE=image/jpeg:https://smart-training-center.com/wp-content/uploads/2024/11/instrumentation-electrical-and-control-system.jpg
END:VEVENT
END:VCALENDAR