BEGIN:VCALENDAR
VERSION:2.0
PRODID:-//Smart Training Center - ECPv6.15.20//NONSGML v1.0//EN
CALSCALE:GREGORIAN
METHOD:PUBLISH
X-WR-CALNAME:Smart Training Center
X-ORIGINAL-URL:https://smart-training-center.com
X-WR-CALDESC:Events for Smart Training Center
REFRESH-INTERVAL;VALUE=DURATION:PT1H
X-Robots-Tag:noindex
X-PUBLISHED-TTL:PT1H
BEGIN:VTIMEZONE
TZID:Asia/Krasnoyarsk
BEGIN:STANDARD
TZOFFSETFROM:+0700
TZOFFSETTO:+0700
TZNAME:+07
DTSTART:20250101T000000
END:STANDARD
END:VTIMEZONE
BEGIN:VEVENT
DTSTART;TZID=Asia/Krasnoyarsk:20260609T083000
DTEND;TZID=Asia/Krasnoyarsk:20260611T160000
DTSTAMP:20260422T054923
CREATED:20241122T163235Z
LAST-MODIFIED:20260227T102348Z
UID:1025-1780993800-1781193600@smart-training-center.com
SUMMARY:e-Procurement berbasis ICT (Information Communication Technology)
DESCRIPTION:LATAR BELAKANG:\ne-Procurement adalah proses pengadaan barang/jasa pemerintah yang pelaksanaannya  dilakukan  secara  elektronik  yang  berbasis  web/\ninternet dengan memanfaatkan fasilitas teknologi komunikasi dan in-formasi yang meliputi pelelangan umum\, pra-kualifikasi dan sourcing\nsecara  elektronik  dengan  menggunakan  modul  berbasis  website. \nProses Pengadaan barang dan jasa yang dilakukan dengan menggunakan e-procurement secara signifikan akan meningkatkan kinerja\, efektifitas\,  efisiensi\,  transparansi\,  akuntabilitas  transaksi  yang  dilakukan\,  selain itu  biaya  operasional  dapat dikurangi  secara  signifikan karena  tidak  diperlukan  lagi penyerahan dokumen fisik dan proses  administrasi  yang  memakan waktu dan biaya. \nOBYEKTIF & BENEFIT:\n\nMemahami prinsip\, konsep\, dan manfaat e-procurement\nMemahami cara kerja aplikasi e-procurement\nMemahami konsep arsitektur pengembangan system\nMemahami tahapan pengembangan system dan modul\nMemahami bagaimana proses  menyeleksi \,  memilih \, dan mengevaluasi kinerja provider IT\nMerancang dan mengawasi  implementasi  pengembangan  e-Procurement\n\nMetoda Pangajaran:\n\n10% teori berdasarkan literatur praktisi\n20% menggunakan Demo Aplikasi Software\n30% best practices dan benchmarking\n40% studi kasus dan diskusi brainstorming\n\nPARTISIPAN:\nPersonal Supply Chain\, Procurement/ Purchasing\, Komite Pembelian\,\, MIS\, System Analyst\, dan IT Internal Auditor\,  Internal  Control\,  Compliance Unit\, Manager \nSILABUS TRAINING:\n\nReview proses Procurement secara manual\nBst-practices/framework yang sudah diakui secara internasional yang terkait dengan aspek IT Strategic Plan.\nPrinsip dan cara kerja sebuah sistem informasi berbasis ICT (information & communication technology) saat ini yang dapat dimanfaatkan secara maksimal untuk mendukung rencana strategis korporasi/ organisasi.\nMemahami bagaimana menempatkan dan posisi IT di dalam lingkungan korporasi/organisasi\nMemahami bagaiaman meletakkan dasar-dasar strategis manajemen sumber daya dengan memanfaatkan ICT.\nMampu membangun tata-kelola (governance) IT dari sisi strategis\nMemanfaatkan teknologi untuk meningkatkan kinerja\, transparansi & accountability pengadaan barang dan jasa\n\nABOUT THE COURSE LEADER:\nDR. Djadja Achmad Sardjana S.T.\, M.M.\n  \nPublic Training berikutnya : 26 – 28 Agustus\, 2026 | 12 – 14 Oktober\, 2026 | 24 – 26 November | 15 – 17 Desember\, 2026
URL:https://smart-training-center.com/event/e-procurement-berbasis-ict-information-communication-technology/
LOCATION:Bandung\, Jawa Barat\, Indonesia
CATEGORIES:Information Technology,Soft Skills,Supply Chain
ORGANIZER;CN="PT Fiqry Jaya Manunggal":MAILTO:info@fiqry.com
END:VEVENT
END:VCALENDAR