BEGIN:VCALENDAR
VERSION:2.0
PRODID:-//Smart Training Center - ECPv6.15.20//NONSGML v1.0//EN
CALSCALE:GREGORIAN
METHOD:PUBLISH
X-ORIGINAL-URL:https://smart-training-center.com
X-WR-CALDESC:Events for Smart Training Center
REFRESH-INTERVAL;VALUE=DURATION:PT1H
X-Robots-Tag:noindex
X-PUBLISHED-TTL:PT1H
BEGIN:VTIMEZONE
TZID:Asia/Krasnoyarsk
BEGIN:STANDARD
TZOFFSETFROM:+0700
TZOFFSETTO:+0700
TZNAME:+07
DTSTART:20240101T000000
END:STANDARD
END:VTIMEZONE
BEGIN:VEVENT
DTSTART;TZID=Asia/Krasnoyarsk:20250204T083000
DTEND;TZID=Asia/Krasnoyarsk:20250206T160000
DTSTAMP:20260422T215423
CREATED:20241122T100848Z
LAST-MODIFIED:20250104T235043Z
UID:892-1738657800-1738857600@smart-training-center.com
SUMMARY:BOILER - Pulverizer and Soot blower System
DESCRIPTION:BACKGROUND & ABOUT THE COURSE:\nPada Pembangkit Listrik Tenaga Uap (PLTU) berbahan bakar Batu Bara\, Soot Blower dan Pulverizer merupakan alat-alat yang sangat penting. Soot blower berfungsi untuk membersihkan tube pada boiler pada Heat Recovery Area (HRA) yaitu area Superheater\, Economizer\, Reheat\, serta pada Air Heater dari kotoran/slag yang menempel. Sedangkan Pulverizer merupakan penyedia serbuk bahan bakar batu bara untuk diumpankan ke dalam ruang bakar (furnace) boiler. Pulverizer selain juga merupakan salah satu komponen boiler yang paling berbahaya khususnya terkait dengan potensi kebakarannya. Oleh karena itu\, dalam pengoperasiannya\, pulverizer harus dapat penanganan yang tepat oleh para operator yang berkompeten. Demikian pula dengan sistem proteksinya harus memiliki keandalan yang tinggi. \nAtas dasar itulah training ini menjadi sangat penting bagi para tenaga teknik/engineer yang terlibat dalam pengoperasian\, pemeliharaan dan pengelolaannya. Training ini akan dipandu oleh trainer yang memiliki pengetahuan dan pengalaman yang sangat memadai di bidang pembangkit\, khususnya PLTU. \nTRAINING OBJECTIVES:\nSetelah mengikuti training ini para trainee diharapkan memiliki wawasan teknis tentang: \n\nKonstruksi soot blower dan pulverizer\nOperasi kerja soot blower dan pulverizer\nPotensi bahaya dan proteksi sistem pulverizer\nMampu melaksanakan pengoperasian Boiler lokal pada unit PLTU batubara sesuai dengan persyaratan dengan batasan yang berlaku untuk mencapai target kinerja yang ditetapkan sesuai standard operating procedure (SOP)\n\nWHO SHOULD ATTEND:\nOperator\, Technician\, Engineering and those who want to know instrumentation\, Electrical and Control System \nCOURSE CONTENT:\nSOOT BLOWER:\n\nJenis-jenis Soot Blower\nMedia untuk Soot Blower\nKomponen-komponen Soot Blower\nPermasalahan pada Soot BloweR\nOperasi Soot Blower\n\nPULVERIZER:\n\nJenis-jenis Pulverizer & bagian-bagian utama pulverizer\nOperasi Pulverizer (start-up\, operation. Shutdown)\nPotensi Kebakaran dan Penyebabnya pada Pulverizer\nSistem Proteksi Pulverizer\n\nABOUT THE COURSE LEADERS:\nIr. Ali Mashar\, M.Eng.Sc.\, IPU \nIr. Ali Mashar\, M.Eng.Sc.\, IPU graduated from New South Wales University (UNSW) Sydney Australia. His core expertise is power and control or electrical engineering. He has been head of the study program of energy conversion engineering Poltek ITB (POLBAN) and lecturer. He is also head of the laboratory of energy engineering PEDC. \nPak Ali Mashar has delivered in-house & public training classes since 2010 covering specific topics on electrical & control system\, energy conservation. Companies where he shares his expertise are local & multinational companies such as: Indonesia Power\, Pemda Papua\, PT. Badak\, Cogindo\, Star Energi\, Chevron\, Freeport and some others. \nOther than teaching he has done many real projects related to power generation and many energy audits.
URL:https://smart-training-center.com/event/boiler-pulverizer-and-soot-blower-system/
CATEGORIES:Engineering,Maintenance,Mechanical,Power Generation
ATTACH;FMTTYPE=image/jpeg:https://smart-training-center.com/wp-content/uploads/2024/11/Boiler-pulverizer-soot-blower-system.jpg
END:VEVENT
END:VCALENDAR