BEGIN:VCALENDAR
VERSION:2.0
PRODID:-//Smart Training Center - ECPv6.15.20//NONSGML v1.0//EN
CALSCALE:GREGORIAN
METHOD:PUBLISH
X-ORIGINAL-URL:https://smart-training-center.com
X-WR-CALDESC:Events for Smart Training Center
REFRESH-INTERVAL;VALUE=DURATION:PT1H
X-Robots-Tag:noindex
X-PUBLISHED-TTL:PT1H
BEGIN:VTIMEZONE
TZID:Asia/Krasnoyarsk
BEGIN:STANDARD
TZOFFSETFROM:+0700
TZOFFSETTO:+0700
TZNAME:+07
DTSTART:20250101T000000
END:STANDARD
END:VTIMEZONE
BEGIN:VEVENT
DTSTART;TZID=Asia/Krasnoyarsk:20260720T083000
DTEND;TZID=Asia/Krasnoyarsk:20260722T160000
DTSTAMP:20260422T193118
CREATED:20241122T061743Z
LAST-MODIFIED:20260413T043842Z
UID:843-1784536200-1784736000@smart-training-center.com
SUMMARY:Spare Parts Management
DESCRIPTION:Background & About the Course \n\n\nEffective spare parts management is akin to logistical support in a battle. Have you considered the losses incurred due to unexpected machinery or equipment failures during production? What if repair processes are hindered by the unavailability of spare parts? \nThe losses from production downtime can be quantified\, but there are also immeasurable losses\, such as damage to company image and client trust. \nTherefore\, implementing an effective maintenance program and controlling spare parts management is crucial. This includes determining necessary items\, assessing the need for storage\, identifying suppliers\, timing orders\, specifying quantities\, ensuring quality standards\, budgeting for spare parts\, and more. \nCourse Objectives\nParticipants will be able to: \n\nUnderstand strategies for spare parts provision.\nControl spare parts effectively.\nProvide necessary items for overhauls and support operational spare parts needs.\nManage spare parts efficiently.\nDevelop a just-in-time stock system with the required specifications.\n\nWho Should Attend\nThis training is recommended for: \n\nMaintenance Managers and Staff\nProduction Managers and Staff\nManagers or Staff closely related to maintenance resource management\, such as Warehouse Management and Supply Chain personnel.\n\nCourse Content\n\nStrategies for Spare Parts Inventory to Support Production Processes\nPlanning and Managing Spare Parts Inventory\nSpare Parts Management and Control Strategies\nClassification of Spare Parts and Equipment\nReorder Point Calculation for Inventory & Management\nPlanning and Controlling Spare Parts for Overhaul\nStock Control of Spare Parts: Safety Stock\, Overstock\, and Dead Stock\nCost Calculation and Analysis of Spare Parts\nEffective and Efficient Spare Parts Warehouse Management\nSoftware aided inventory\nControl of Factors Leading to Inventory Loss\nSpare Parts with Specific Storage Requirements\nWarehouse layout & racking system\nSpare Parts Coding and Standardization Systems\nKey Performance Indicators (KPIs) for Spare Parts Management\n\nAbout the Course Leader:\nIr. Irfan Zen/ Rusmana\, ST.\, MT \nPublic Training berikutnya : 17 – 19 November\, 2026
URL:https://smart-training-center.com/event/spare-parts-management/
LOCATION:Bandung\, Jawa Barat\, Indonesia
CATEGORIES:Maintenance,Production Operation,Supply Chain
ATTACH;FMTTYPE=image/jpeg:https://smart-training-center.com/wp-content/uploads/2024/11/Spare-Parts-Management.jpg
ORGANIZER;CN="PT Fiqry Jaya Manunggal":MAILTO:info@fiqry.com
END:VEVENT
END:VCALENDAR