BEGIN:VCALENDAR
VERSION:2.0
PRODID:-//Smart Training Center - ECPv6.15.20//NONSGML v1.0//EN
CALSCALE:GREGORIAN
METHOD:PUBLISH
X-ORIGINAL-URL:https://smart-training-center.com
X-WR-CALDESC:Events for Smart Training Center
REFRESH-INTERVAL;VALUE=DURATION:PT1H
X-Robots-Tag:noindex
X-PUBLISHED-TTL:PT1H
BEGIN:VTIMEZONE
TZID:Asia/Krasnoyarsk
BEGIN:STANDARD
TZOFFSETFROM:+0700
TZOFFSETTO:+0700
TZNAME:+07
DTSTART:20250101T000000
END:STANDARD
END:VTIMEZONE
BEGIN:VEVENT
DTSTART;TZID=Asia/Krasnoyarsk:20260421T083000
DTEND;TZID=Asia/Krasnoyarsk:20260423T160000
DTSTAMP:20260422T003348
CREATED:20241122T165031Z
LAST-MODIFIED:20260209T080830Z
UID:1050-1776760200-1776960000@smart-training-center.com
SUMMARY:Logistics and Supply Change Management
DESCRIPTION:About the Course:\nIn today’s globalized economy\, efficient logistics and supply chain management play a crucial role in ensuring business success. Companies must optimize their supply chains to enhance operational efficiency\, reduce costs\, and improve customer satisfaction. As businesses face increasing challenges such as fluctuating demand\, transportation disruptions\, and supply shortages\, having a well-structured supply chain strategy is essential for maintaining competitiveness in the market. \nThis training program is designed to provide professionals with a comprehensive understanding of logistics and supply chain management. Participants will gain insights into the key principles\, strategies\, and best practices required to manage and optimize supply chain and warehouse operations. By understanding the interdependencies between procurement\, production\, warehousing\, and distribution\, professionals can enhance their ability to create a resilient and efficient supply chain network. \nCourse Objectives:\n\nUnderstand the fundamental concepts of logistics and supply chain management.\nLearn best practices for supply chain optimization and cost reduction.\nDevelop skills to manage inventory\, warehousing\, and distribution effectively.\nGain knowledge of supply chain risk management and resilience strategies.\nExplore the role of technology and digital transformation in supply chain management.\nEnhance decision-making capabilities for procurement and supplier relationship management.\nUnderstand global supply chain trends and sustainability practices.\nUnderstand potential frauds & able to mitigate them\n\nWho Should Attend:\n\nSupply chain managers and executives\nLogistics professionals\, Procurement and purchasing officers\nWarehouse and inventory managers\nOperations\, Production & Project managers\nBusiness analysts and consultants\n\nCourse Content:\n\nIntroduction to Logistics & Supply Chain Management – Overview of key concepts\, components\, and importance in business.\nSupply Chain Strategy & Design – Aligning supply chain strategy with business goals and market demands.\nProcurement & Supplier Management – Best practices for sourcing\, supplier evaluation\, and contract management.\nInventory & Warehouse Management – Techniques for inventory control\, warehousing strategies\, and demand forecasting.\nTransportation & Distribution Management – Logistics planning\, freight management\, and last-mile delivery optimization.\nTechnology in Supply Chain – Role of AI\, blockchain\, IoT\, and automation in modern supply chains.\nRisk Management & Resilience – Identifying risks\, developing mitigation strategies\, and ensuring supply chain continuity.\nSustainability in Supply Chain – Green logistics\, circular economy\, and sustainable procurement strategies.\nFrauds & Mitigation – Understanding common supply chain frauds and implementing mitigation strategies.\nCase Studies & Best Practices\n\nABOUT THE COURSE LEADER:\nIr. R. Iim Takwim\, ST.\, MM.\, IPM.\, ASEAN.Eng.\, ACPE \nMr. Iim Takwim is a highly accomplished professional with a solid academic foundation in Industrial Engineering. He has further honed his expertise by earning both a Master’s and Doctorate degree in Human Resources\, complementing his technical and managerial skills. His extensive professional experience includes roles such as HRD Manager in the textile industry\, Production Manager in the garments industry at PT. Fit-U\, and Head of the Laboratory for Industry\, Automotive\, and Machinery at STT-JB. \nIn addition to his managerial roles\, Mr. Takwim is an active contributor to knowledge sharing and skill development. He has delivered training and consultancy to leading national and international organizations across various industries. His clients include PT. Timah Tbk.\, PT. Arun LNG\, PT. Batu Bara Bukit Kendi\, PT. Petrosea Tbk.\, PT. Chevron Pacific Indonesia\, PT. Freeport Indonesia\, PT. Banpu\, PT. Medco E&P\, PT. Semen Gresik\, PetroChina International\, PT. Vico Indonesia\, Pertamina\, CNOOC\, PT. British Petroleum\, BP Migas\, PT. Pupuk Kaltim\, PT. Badak NGL\, PT. Kaltim Prima Coal\, and many others. \nMr. Takwim has also collaborated with companies in diverse sectors\, including energy\, mining\, petrochemical\, and financial services\, such as PT. Adaro Indonesia\, PT. Krakatau Wajatama\, PT. Citic Seram Energy\, PT. Total E&P Indonesie\, PT. Energi Sengkang\, PT. Hexindo\, and BRI. His vast experience\, combined with his technical expertise and human resource management skills\, makes him a sought-after trainer and consultant\, contributing significantly to organizational development and operational excellence \nPublic Training berikutnya : 5 – 7 Agustus\, 2026 | 11 – 13 November\, 2026
URL:https://smart-training-center.com/event/logistics-supply-change-management-scm/
LOCATION:Bandung\, Jawa Barat\, Indonesia
CATEGORIES:General,Manajemen,Supply Chain
ATTACH;FMTTYPE=image/jpeg:https://smart-training-center.com/wp-content/uploads/2024/09/Logistics-Supply-Chain-Management.jpg
ORGANIZER;CN="PT Fiqry Jaya Manunggal":MAILTO:info@fiqry.com
END:VEVENT
BEGIN:VEVENT
DTSTART;TZID=Asia/Krasnoyarsk:20260428T083000
DTEND;TZID=Asia/Krasnoyarsk:20260430T160000
DTSTAMP:20260422T003348
CREATED:20241122T163307Z
LAST-MODIFIED:20260208T004124Z
UID:1040-1777365000-1777564800@smart-training-center.com
SUMMARY:Warehousing Operation Management System
DESCRIPTION:Background & About the Course\nWarehouse operation management system is the process of controlling\, executing\, monitoring\, and optimizing warehouse operations. Effective warehouse management is crucial for business success; moreover modern warehouse will certainly fail if it does not operate efficiently. A Warehouse Management System (WMS) can significantly enhance operational processes by providing real-time visibility into inventory levels\, staff productivity\, demand forecasting\, and order fulfillment workflows. This training will explore how warehouse operations impact supply chain management and how to position your business for success. \nCourse Objectives\nThe objectives of this training are to provide participants with the ability to: \n\nImprove performance in warehouse operations.\nUtilize modern inventory management techniques.\nUnderstand the importance of dynamic supply chain management.\nDevelop skills in managing warehouse and inventory personnel.\nMaster techniques for addressing operational challenges.\n\nWho Should Attend\nRecommended Participants: \n\nWarehouse personnel\nDistribution and logistics staff\nInventory control specialists\nSupply chain and purchasing professionals\n\nCourse Outline\n\nWarehouse Management\n\n\nDefinition and objectives of warehouse management\nWarehouse space and layout planning\nKey terms in warehouse management\nTypes of warehouses\nWarehouse planning and safety\nSecurity measures in warehouses\n\n\nInventory Control\n\n\nABC inventory classification system\nEconomic Order Quantity (EOQ)\nJust-In-Time (JIT) inventory management\nProcedures for receiving\, handling\, issuing\, and delivering goods\n\n\nPotential Fraud & How to Mitigate:\n\n\nFinancial and Documentation Fraud (Theft of Goods\, Inventory Shrinkage\, Fake Inventory Records)\nInventory and Asset Mismanagement (False Receipts\, Overbilling\, Double Invoicing\, Ghost Employees)\nVendor and Supplier Collusion (Kickbacks\, Substandard Goods\, False Claims)\nOperational and Procedural Lapses (Unauthorized Access\, Misuse of Equipment\, Diversion of Goods)\nRegulatory and Safety Violations (Improper Waste Disposal\, Non-Compliance Fines)\n\n\nManagement Information Systems\n\n\nKey terms in information management\nOverview of computer hardware and software\nNetworking fundamentals\nImplementation of management information systems\nInventory information management systems\nWarehouse information management systems\n\nMethodology \n\nInteractive discussions\nGroup and individual exercises\nSelf-reflection activities\nRole-playing\, relevant games\, and video presentations\n\nAbout the Course Leader:\nIr. R. Iim Takwim\, ST.\, MM.\, IPM.\, ASEAN.Eng.\, ACPE   \nIim Takwim holds a degree in Industrial Engineering and has completed his master’s and doctoral studies in Human Resources. He has professional experience as a Human Resources Manager in the textile industry\, Production Manager in the garments sector at PT. Fit-U\, and Head of the Laboratory of Industry\, Automotive\, and Machines at STT-JB. \nMr. Takwim actively shares his expertise with various organizations\, including PT. Timah Tbk.\, PT. Arun LNG\, PT. Batu Bara Bukit Kendi\, PT. Petrosea Tbk.\, PT. Chevron Pacific Indonesia\, PT. Freeport Indonesia\, and many others across diverse industries. He has contributed to training and development initiatives for numerous companies\, enhancing their operational efficiency and management practices. \nPublic Training berikutnya : 21 – 23 July\, 2026 | 18 – 20 November\, 2026
URL:https://smart-training-center.com/event/warehousing-operation-management-system/
LOCATION:Bandung\, Jawa Barat\, Indonesia
CATEGORIES:Supply Chain
ATTACH;FMTTYPE=image/jpeg:https://smart-training-center.com/wp-content/uploads/2024/11/Warehouse.jpg
ORGANIZER;CN="PT Fiqry Jaya Manunggal":MAILTO:info@fiqry.com
END:VEVENT
END:VCALENDAR