BEGIN:VCALENDAR
VERSION:2.0
PRODID:-//Smart Training Center - ECPv6.15.20//NONSGML v1.0//EN
CALSCALE:GREGORIAN
METHOD:PUBLISH
X-WR-CALNAME:Smart Training Center
X-ORIGINAL-URL:https://smart-training-center.com
X-WR-CALDESC:Events for Smart Training Center
REFRESH-INTERVAL;VALUE=DURATION:PT1H
X-Robots-Tag:noindex
X-PUBLISHED-TTL:PT1H
BEGIN:VTIMEZONE
TZID:Asia/Krasnoyarsk
BEGIN:STANDARD
TZOFFSETFROM:+0700
TZOFFSETTO:+0700
TZNAME:+07
DTSTART:20250101T000000
END:STANDARD
END:VTIMEZONE
BEGIN:VEVENT
DTSTART;TZID=Asia/Krasnoyarsk:20260427T083000
DTEND;TZID=Asia/Krasnoyarsk:20260429T160000
DTSTAMP:20260422T003812
CREATED:20241122T163252Z
LAST-MODIFIED:20260209T081450Z
UID:1035-1777278600-1777478400@smart-training-center.com
SUMMARY:Pemeriksaan & Pengujian Electrical Grounding system
DESCRIPTION:Background & About the Course\nThe inspection and testing of electrical grounding systems are vital for any building and its equipment. Neglecting the maintenance of grounding systems can lead to severe damage from lightning strikes\, resulting in equipment failure and even fires. In capital-intensive industries such as refineries\, oil and gas\, petrochemicals\, and tank yards\, lightning damage can lead to significant financial losses and production interruptions. \nAdditionally\, the risks to personnel\, including minor and serious injuries or fatalities\, medical costs\, and recovery expenses for the entire production system\, can be substantial. All these hazards and losses can be mitigated by enhancing the knowledge and skills of all involved through this training. \nCourse Objectives\nAfter completing this training\, participants will: \n\nGain a better understanding of lightning\, its symptoms\, characteristics\, and consequences for humans and industries.\nUnderstand the importance of grounding systems.\nLearn methods to avoid losses due to lightning strikes across various aspects.\nDiscover ways to prevent workplace accidents caused by lightning.\nAcquire knowledge on selecting lightning protection systems to safeguard equipment and personnel.\n\nWho Should Attend\nRecommended Participants: \n\nElectrical Engineers\, Supervisors\, and Superintendents\nPlant Maintenance Technicians\, Engineers\, Supervisors\, and Superintendents\nPlant and Process Engineers\, Supervisors\, and Superintendents\nSafety and Loss Prevention Engineers\, Supervisors\, and Superintendents\nElectrical and Mechanical Design Engineers\nAnyone looking to expand their knowledge of lightning protection and grounding systems\n\nCourse Outline\n\nCharacteristics of Lightning\nIntroduction to Lightning Protection Equipment\nIntroduction to Grounding Equipment\nMaintenance and Inspection of Grounding Systems\nMeasurement and Testing of Lightning Protection Systems\nPreventing Workplace Accidents\nAvoiding Industrial Equipment Damage\nPreventing Fires\nMitigating Other Losses\nRecommendations for Improving Existing Systems and Mitigation Strategies\n\nAbout the Course Leaders:\nIr. Nana Heryana\, S.T. IPU.\, ASEAN.Eng  \nPublic Training berikutnya : 10 – 12 Agustus\, 2026 | 15 – 17 Desember\, 2026
URL:https://smart-training-center.com/event/pemeriksaan-pengujian-electrical-grounding-system/
LOCATION:Bandung\, Jawa Barat\, Indonesia
CATEGORIES:Engineering,Maintenance,Production Operation,Q-HSE
ATTACH;FMTTYPE=image/jpeg:https://smart-training-center.com/wp-content/uploads/2024/11/lightening-1.jpg
ORGANIZER;CN="PT Fiqry Jaya Manunggal":MAILTO:info@fiqry.com
END:VEVENT
END:VCALENDAR