BEGIN:VCALENDAR
VERSION:2.0
PRODID:-//Smart Training Center - ECPv6.15.20//NONSGML v1.0//EN
CALSCALE:GREGORIAN
METHOD:PUBLISH
X-WR-CALNAME:Smart Training Center
X-ORIGINAL-URL:https://smart-training-center.com
X-WR-CALDESC:Events for Smart Training Center
REFRESH-INTERVAL;VALUE=DURATION:PT1H
X-Robots-Tag:noindex
X-PUBLISHED-TTL:PT1H
BEGIN:VTIMEZONE
TZID:Asia/Krasnoyarsk
BEGIN:STANDARD
TZOFFSETFROM:+0700
TZOFFSETTO:+0700
TZNAME:+07
DTSTART:20250101T000000
END:STANDARD
END:VTIMEZONE
BEGIN:VEVENT
DTSTART;TZID=Asia/Krasnoyarsk:20260608T083000
DTEND;TZID=Asia/Krasnoyarsk:20260610T160000
DTSTAMP:20260422T031934
CREATED:20241122T101950Z
LAST-MODIFIED:20260225T111613Z
UID:906-1780907400-1781107200@smart-training-center.com
SUMMARY:Gas Hazard and Measurement
DESCRIPTION:About the Course:\nGas is a highly flammable material that requires careful control and handling. Understanding how to anticipate and measure potential hazards is crucial to ensuring safety in various industrial applications. This course equips participants with essential knowledge to assess gas hazards in the workplace and apply effective measurement techniques. \nBy mastering gas hazards identification and measurement\, participants can enhance workplace safety\, minimize risks\, and comply with health and safety regulations. The course covers the physical properties\, toxicity\, and flammability of various gases\, providing a comprehensive understanding of gas-related risks and mitigation strategies. \nCourse Objectives:\n\nIdentify common gas hazards and associated risks\nUnderstand the properties and dangers of gases such as H2S\, SO2\, CO\, CO2\, and hydrocarbons\nApply techniques to detect and measure hazardous gases\nImplement effective gas leak prevention and fire protection measures\nOperate and maintain personal gas monitors and detection equipment\nUtilize respiratory protection\, including SCBA (Self-Contained Breathing Apparatus)\n\nWho Should Attend:\n\nProcess Safety Engineers\nOperations and Maintenance Personnel\nEmergency Response Teams\nEnvironmental Health and Safety (EHS) Officers\nFire Brigade\n\nCourse Content:\n\nIntroduction to Gas Hazards\n\nGas pressure hazards\, flammable and toxic gases\n\n\nH2S Gas Hazard\n\nProperties\, toxicity\, and flammability of hydrogen sulfide\n\n\nSO2 Gas Hazard\n\nProperties\, toxicity\, and flammability of sulfur dioxide\n\n\nCO & CO2 Gas Hazard\n\nProperties\, toxicity\, and flammability of carbon monoxide and dioxide\n\n\nHydrocarbon Gas Hazard (CH4 and Others)\n\nProperties and flammability of methane and other hydrocarbons\n\n\nGas Leak\, Fire\, and Explosion\n\nFire triangle and tetrahedron\, causes and properties of fire and explosions\n\n\nBLEVE and UVCE\n\nBoiling Liquid Expanding Vapor Explosion (BLEVE)\nUnconfined Vapor Cloud Explosion (UVCE)\n\n\nGas Detection and Measurement\n\nGas sensors\, detectors\, and personal monitors\n\n\nRespiratory Protection and SCBA\n\nSelf-Contained Breathing Apparatus usage and maintenance\n\n\nFire Protection and Extinguishers\n\n\nFirefighting equipment and best practices for gas-related fires\n\nABOUT THE COURSE LEADERS:\nIr. In Jumanda Kasdadi\, M.T \nIn addition to his duty as lecturer\, Mr. Jumanda has delivered almost 280 trainings (public & in-house) in various types of industries\, especially for oil and gas companies since 1997. He holds Bachelor and Master Degrees in Chemical Engineering degrees from the Institute Technology Bandung. He has also taken courses for 9 topics in The Oil & Gas fields at PETEX (Petroleum Extension)\, University of Texas at Austin\, in Houston\, Texas\, USA (2018). \nBeyond his formal educations\, he has many other professional certificates; Lecturer Certificate from Indonesia Minister of Education; Construction\, Electrical and Fire Protection Certificates from HSE Association Indonesia (ALPK3); Risk Based Inspection (RBI) Facilitator\, Instrumentation Engineering Design for Oil & Gas Project with INtools (Ref.No OGC01-170516200516-2839); HAZOPS and HAZID Certificates from Indonesia Certifying Agency (BNSP). \nCompanies where he delivered the training to are mostly major intensive capital such as Pertamina\, PHE\, PHI\, PHR\, PHKT\, PGN\, Chevron\, ConocoPhillips\, Total Indonesie\, CNOOC\, Medco\, Petrochina\, Star Energy\, Freeport\, Mubadala\, Indonesia Power\, Geothermal Companies\, KAI\, US Consulate\, Freeport\, SKK Migas\, Titas (Bangladesh)\, and petrochemical & mining and others. \nIr. In Jumanda K\, MT was directly involved in many projects of Feasibility Studies (FS)\, and further Front-End Engineering Design (FEED)\, Detail Engineering Design for Construction (DEDC) in oil/gas industry\, Risk-Based Inspection (RBI)\, HAZID\, HAZOPS\, QRA\, FTA\, SIL Classification\, etc; for national and international companies. \nPublic Training berikutnya : 7 – 9 Oktober\, 2026 | 8 – 10 Desember\, 2026
URL:https://smart-training-center.com/event/gas-hazard-measurement/
LOCATION:Bandung\, Jawa Barat\, Indonesia
CATEGORIES:Oil & Gas,Production Operation,Q-HSE
ATTACH;FMTTYPE=image/jpeg:https://smart-training-center.com/wp-content/uploads/2024/11/gas-hazard-measurement.jpg
ORGANIZER;CN="PT Fiqry Jaya Manunggal":MAILTO:info@fiqry.com
END:VEVENT
BEGIN:VEVENT
DTSTART;TZID=Asia/Krasnoyarsk:20260609T083000
DTEND;TZID=Asia/Krasnoyarsk:20260610T160000
DTSTAMP:20260422T031934
CREATED:20241122T041540Z
LAST-MODIFIED:20260227T091131Z
UID:822-1780993800-1781107200@smart-training-center.com
SUMMARY:IT Risk Management
DESCRIPTION:BACKGROUND & ABOUT THE COURSE:\nIT Risk Management (IT-RM) courses focus on achieving the perfect balance between leveraging IT opportunities for growth and minimizing potential risks or losses. As an essential component of good management practices\, it’s plays a critical role in fostering effective corporate governance. By following an iterative process\, consisting of structured steps taken in sequence\, organizations can ensure continuous improvement in IT decision-making. This approach not only enhances risk management strategies but also drives ongoing improvements in IT performance\, aligning technology efforts with broader business objectives. \nThis structured process empowers businesses to adapt to dynamic challenges\, optimize resources\, and maintain resilience in a constantly evolving digital landscape. \nTRAINING OBJECTIVES:\n\nAble to Defines Process of identifying vulnerabilities and threats to the information resources used by an organization in achieving business objectives and deciding what countermeasures Design high-performance and cloud applications to support scalable online services\nLearn to identify issues in processes and design big data processing applications to efficiently handle high-volume and high-velocity data.\nAble describe the road-mapping of risk management as related to IT processes; the framework will be based on the CMM maturity level concept.\n\nWHO SHOULD ATTEND:\n\nIT Managers\, Supervisors\, IT Security Officers\nChief Information Officers (CIOs)\nSystem Administrators & Network Engineers\nCompliance Officers\, Internal & External Auditors\nBusiness Continuity & Disaster Recovery Teams\nProject Managers handling IT-related projects\nData Protection Officers\n\nCOURSE OUTLINE:\n1. Introduction\n\nDefinition and importance of IT-RM.\nKey objectives and benefits.\nOverview of the risk management lifecycle.\n\n2. Understanding IT Risks and Processes\n\nIdentifying and classifying information assets.\nAssessing threats and vulnerabilities.\nPrioritizing risks based on likelihood and impact.\n\n3. Risk Indicators and Their Applications\n\nOperational risks: Safeguarding IT infrastructure.\nProject risks: Managing complexities in IT projects.\nStrategic risks: Aligning IT with business strategies.\n\n4. Building a Loss Event Database\n\nDocumenting intentional and unintentional data loss events.\nStrategies to prevent data loss.\nRecovery and cost management in case of data loss.\n\n5. Establishing Effective Risk Management Programs\n\nDefining the purpose of a risk management program.\nAssigning roles and responsibilities.\nKey steps for implementation and success.\n\n6. Risk Management Maturity\n\nIntroduction to Capability Maturity Model (CMM).\nAssessing current maturity levels.\nRoadmap for achieving advanced risk management maturity.\n\n7. IT Governance and Risk Management\n\nRole of IT governance in risk mitigation.\nResource allocation and cost-effective strategies.\nMonitoring and controlling adverse events.\n\n8. Real-World IT-RM Cases\n\nCase studies highlighting successful risk mitigation.\nLessons learned from failures.\nInnovative practices in risk management.\n\n9. Best Practices and Tools for IT-RM\n\nOverview of industry standards (e.g.\, ISO/IEC 27001).\nTools and technologies to support risk management.\nContinuous improvement and adaptability.\n\n10. Final Assessment and Certification\n\nGroup discussions and scenario analysis.\nPractical assignments based on course content.\nCertification of completion.\n\nABOUT THE COURSE LEADERS:\nAndika Bayu Saputra\, S.Kom\, M.Kom\, Pada tahun 2013 mendapatkan gelar master (S2) dibidang IT dengan predikat memuaskan di program pasca sarjana Magister Teknik Informatika FTI UII. \nMenjadi Consultant IT sejak 2013 dan banyak menangani proyek yang berkaitan dengan IT. Selain sebagai akademisi dan praktisi dibidang IT juga sering memberikan pelatihan dan certified dibidang IT. \nPublic Training berikutnya : 12 – 13 Oktober\, 2026
URL:https://smart-training-center.com/event/it-risk-management-2/
LOCATION:Jakarta
CATEGORIES:Information Technology,Manajemen,Q-HSE
ATTACH;FMTTYPE=image/jpeg:https://smart-training-center.com/wp-content/uploads/2024/11/it-risk-management.jpg
ORGANIZER;CN="PT Fiqry Jaya Manunggal":MAILTO:info@fiqry.com
END:VEVENT
BEGIN:VEVENT
DTSTART;TZID=Asia/Krasnoyarsk:20260610T083000
DTEND;TZID=Asia/Krasnoyarsk:20260612T160000
DTSTAMP:20260422T031934
CREATED:20241122T160336Z
LAST-MODIFIED:20260302T090107Z
UID:962-1781080200-1781280000@smart-training-center.com
SUMMARY:Kalibrasi Peralatan Kontrol & Instrumentasi
DESCRIPTION:Background & About the Course:\nKalibrasi adalah proses untuk memastikan alat ukur atau instrumen menghasilkan hasil yang sesuai dengan standar internasional yang diakui. Proses ini dilakukan dengan membandingkan nilai yang diukur oleh alat dengan nilai acuan yang ditetapkan\, guna memastikan hasil pengukuran yang akurat dan terpercaya. Dalam dunia industri\, peralatan kontrol\, instrumentasi\, dan sensor memiliki peran penting dalam mengukur\, menggerakkan\, dan mengontrol proses produksi. Untuk menjamin hasil produksi yang konsisten dan sesuai standar\, kalibrasi yang tepat pada semua peralatan ini sangatlah penting. \nPelatihan ini bertujuan memberikan pengetahuan tentang sistem instrumentasi dan kontrol di pembangkit listrik\, karakteristik alat ukur\, serta penerapan kalibrasi dan tuning pada peralatan kontrol dan instrumentasi. Peserta akan belajar bagaimana mengkalibrasi instrumen untuk memastikan pengukuran yang akurat dan optimal dalam pengoperasian sistem kontrol. \nCourse Objectives:\n\nMengukur dan menggunakan alat ukur dengan benar\, menghasilkan data yang valid\, Comply dengan regulasi yang ditetapkan\nMemahami fungsi dan penerapan peralatan kontrol dalam sistem kontrol.\nMelakukan kalibrasi dan tuning pada peralatan kontrol dan instrumentasi.\n\nWho Should Attend:\n\nSupervisor/Teknisi Instrumen dan Kontrol\nStaff dan Engineer Instrumen dan Kontrol\nOperation/Maintenance yang menangangi kalibrasi\nTim Quality Control (Q-HSE)\n\nCourse Content:\n\nSistem Kontrol dan Instrumentasi Power Plant\n\n\nMemahami cara sistem kontrol beroperasi di pembangkit listrik\, termasuk peran instrumen dalam menjaga kestabilan proses dan efisiensi operasional.\n\n\nInstrumentasi dan Pengukuran Listrik\n\n\nMengenal alat ukur yang digunakan untuk mengukur parameter listrik\, seperti tegangan\, arus\, dan daya\, serta cara memastikan akurasi pengukuran.\n\n\nKarakteristik Statik dan Dinamik Instrumen\n\n\nMempelajari perbedaan karakteristik instrumen dalam kondisi statik (nilai tetap) dan dinamik (respon terhadap perubahan)\, penting untuk pengukuran yang akurat.\n\n\nSistem Kontrol Proses\n\n\nMenjelaskan penerapan sistem kontrol otomatis untuk mengatur proses produksi dan menjaga kualitas hasil secara konsisten.\n\n\nPrinsip Sistem Kontrol\n\n\nDasar-dasar sistem kontrol\, termasuk cara pengaturan otomatis untuk mengontrol variabel proses dalam operasional.\n\n\nPengkondisi Sinyal\n\n\nTeknik pengolahan sinyal dari sensor untuk memastikan sinyal yang diterima sistem kontrol dalam kondisi yang optimal.\n\n\nSensor dan Pengukuran Tekanan\n\n\nFokus pada sensor tekanan dan metode kalibrasi untuk memastikan hasil pengukuran yang tepat.\n\n\nSensor dan Pengukuran Suhu\n\n\nMengenal sensor suhu dan teknik kalibrasi untuk memastikan pengukuran yang presisi.\n\n\nSensor dan Pengukuran Aliran\n\n\nMembahas cara kerja sensor aliran dan pentingnya kalibrasi untuk hasil pengukuran yang akurat.\n\n\nSensor dan Pengukuran Level\n\n\nMenggunakan sensor untuk mengukur level dan memastikan pengukuran yang akurat untuk pengendalian proses yang efisien.\n\n\nElemen Akhir (Aktuator)\n\n\nMemahami peran aktuator dalam menggerakkan sistem berdasarkan sinyal dari controller.\n\n\nPengendali (Controller)\n\n\nMenjelaskan peran controller dalam mengelola sinyal input untuk pengaturan output yang optimal dalam sistem kontrol.\n\n\nKalibrasi Instrumen\n\n\nProses kalibrasi instrumen untuk memastikan akurasi dan konsistensi dalam pengukuran.\n\n\nTuning Sistem Kontrol\n\n\nTeknik tuning untuk menyesuaikan pengaturan sistem kontrol agar respons lebih optimal dan stabil.\n\n\n\nABOUT THE COURSE LEADER:\nAli Mashar\, M.Eng.Sc.\, IPU  \nAli Mashar\, M.Eng.Sc.\, IPU graduated from New South Wales University (UNSW) Sydney Australia. His core expertise is power and control or electrical engineering. His core expertise is power and control or electrical engineering. He was the Head Energy Conversion Engineering of Politeknik ITB (POLBAN) and lecturer. He is also Head of the laboratory of energy engineering PEDC. \nAli Mashar has delivered in-house & public training classes since 2010 covering specific topics on electrical & control system\, energy conservation. Companies where he shares his expertise are local & multinational companies such as: Indonesia Power\, Pemda Papua\, PT. Badak\, Cogindo\, Star Energi\, Chevron\, Freeport and some others. \nOther than teaching he has done many real projects related to power generation and many energy audits. \nPublic Training berikutnya : 12 – 14 Oktober\, 2026
URL:https://smart-training-center.com/event/kalibrasi-peralatan-kontrol-instrumentasi/
LOCATION:Bandung\, Jawa Barat\, Indonesia
CATEGORIES:Electrical,Engineering,Mechanical,Production Operation,Q-HSE
ATTACH;FMTTYPE=image/jpeg:https://smart-training-center.com/wp-content/uploads/2024/11/Kalibrasi-Peralatan-Kontrol-Instrumentasi-1.jpg
ORGANIZER;CN="PT Fiqry Jaya Manunggal":MAILTO:info@fiqry.com
END:VEVENT
BEGIN:VEVENT
DTSTART;TZID=Asia/Krasnoyarsk:20260615T083000
DTEND;TZID=Asia/Krasnoyarsk:20260616T160000
DTSTAMP:20260422T031934
CREATED:20241122T100849Z
LAST-MODIFIED:20260305T044201Z
UID:893-1781512200-1781625600@smart-training-center.com
SUMMARY:Powerful Database Analysis & Dashboard Reporting using Microsoft Excel
DESCRIPTION:BACKGROUND:\nWhy Choose Microsoft Excel for Database Analysis?\nProses analisis data dan pembuatan dashboard summary report dari file text hasil import aplikasi besar seperti SAP/ERP seringkali memakan waktu lama\, bahkan berhari-hari\, meskipun menggunakan Microsoft Excel. Pelatihan ini\, “Powerful Database Analysis & Dashboard Reporting using Microsoft Excel\,” akan membantu menyelesaikan proses ini lebih cepat dan sesuai kebutuhan pimpinan. Excel memiliki berbagai metode canggih dan fungsi terbaru yang mampu mempercepat pengolahan\, validasi\, analisis\, dan pelaporan data\, bahkan untuk jumlah data lebih dari 100.000 record. Dengan teknik yang tepat\, proses ini dapat diselesaikan lebih cepat dan sesuai kebutuhan pimpinan. \nExcel juga menawarkan fitur pembuatan dashboard summary report yang interaktif\, dinamis\, dan menarik untuk mendukung analisis lebih lanjut. Salah satu fitur tersembunyi yang jarang dimanfaatkan adalah Solver Analysis Tool Pack\, yang memungkinkan simulasi budgeting analysis secara cepat dan akurat. Fitur ini memungkinkan pengguna melakukan optimasi dan prediksi dengan hasil yang lebih presisi. Dengan berbagai fungsi validasi dan analisis yang tersedia\, pengguna tidak perlu lagi mengembangkan program database analysis dan summary reporting menggunakan bahasa pemrograman tertentu. Semua kebutuhan analisis data dan pelaporan dapat diselesaikan dengan cepat dan efisien menggunakan Excel\, mendukung pengambilan keputusan yang lebih berbasis data. \nOBJECTIVES:\n\nMastering advanced data analysis techniques\nEnhancing data visualization skills\nOptimizing database utilization in Excel\nUnderstanding advanced tools & features in Excel\nImproving work efficiency\nSupporting data-driven decision-making\n\nRECOMMENDED PARTICIPANTS:\n\nData Analysts & Business Analyst\nFinance & Accounting Professionals\nSales & Marketing Teams\nOperations & Supply Chain Managers\nProject Managers who require data processing\nHuman Resources Analysts\nIT Support Staff handling data reporting\nAdministrative Staff responsible for data management\nEntrepreneurs or Small Business Owners managing their own data\n\nCOURSE OUTLINE:\n\nStep-by-step operation for external data converting process to Excel database.\nCreated & designed worksheet using Sparklines object\nHow to use Auto Filter with union field key &Custom Filter\nOptimization filtering column in the database.\nHow to make an Advance Filter (Criteria and Output Data Query).\nHow to make and use Consolidate Methods.\nRemoving Duplicate Rows\nUsing the Excel Built-In Data Entry Form\nCreating a Drop-Down List in a Cell\nHow to make Ranking Values\nPerforming a LOOKUP function.\nHow to use Operational Table with ADVANCE LOOKUP Function\nHow to make and use PivotTable Optimization\nCreated and designed worksheet report using PivotTable\nCreating and Utilizing Pivot Charts Optimized with Slicer Panels\nCreated and designed Cells Graphic using Spark Lines\nHow to make and use Data Validation\nHow to make and use Data Validation Automation with Table Function.\nHow to make and use the Data Table Method for one-cell input and two-cell input.\nHow to make & use data analysis method (What If Analysis).\nHow to make and use the analysis function.\nHow to make active and use solver analysis tool pack:\n\n\n\n\nHow using of Format Cells for Locked & Hidden Cells\nHow using of Using Allow Users to Edit Range (Permission User Access Setting)\nHow to use of Protect Sheet (Select Locked Cells & Select Unlocked Cells)\n\n\n\n\nCase study implementation\n\nABOUT THE COURSE LEADERS:\nAndika Bayu Saputra\, S.Kom\, M.Kom\, Pada tahun 2013 mendapatkan gelar master (S2) dibidang IT dengan predikat memuaskan di program pasca sarjana Magister Teknik Informatika FTI UII. \nMenjadi Consultant IT sejak 2013 dan banyak menangani proyek yang berkaitan dengan IT. Selain sebagai akademisi dan praktisi dibidang IT juga sering memberikan pelatihan dan certified dibidang IT. \nPublic Training berikutnya : 19 – 20 Oktober\, 2026
URL:https://smart-training-center.com/event/powerful-database-analysis-and-dashboard-reporting/
LOCATION:Jakarta
CATEGORIES:Engineering,Finance,General,HRD,Manajemen,Oil & Gas,Power Generation,Project,Q-HSE,Supply Chain
ATTACH;FMTTYPE=image/jpeg:https://smart-training-center.com/wp-content/uploads/2024/11/powerful-database-analysis-dashboard-reporting-using-microsoft-excel.jpg
ORGANIZER;CN="PT Fiqry Jaya Manunggal":MAILTO:info@fiqry.com
END:VEVENT
BEGIN:VEVENT
DTSTART;TZID=Asia/Krasnoyarsk:20260622T083000
DTEND;TZID=Asia/Krasnoyarsk:20260624T160000
DTSTAMP:20260422T031934
CREATED:20241122T170008Z
LAST-MODIFIED:20260331T063139Z
UID:1070-1782117000-1782316800@smart-training-center.com
SUMMARY:Oil Water Treatment Technology
DESCRIPTION:About the Course:\nTeknologi pengolahan air minyak memainkan peran penting tidak hanya dalam industri minyak dan gas\, tetapi juga di sebagian besar perusahaan besar yang peduli terhadap lingkungan. Pemisahan minyak dan air yang efisien sangat penting untuk kepatuhan lingkungan dan efisiensi operasional. Pelatihan Oil Water Treatment Technology  membahas prinsip-prinsip\, proses\, dan teknik-teknik canggih untuk mengolah air yang terkontaminasi minyak\, dengan fokus pada dasar-dasar teoritis dan aplikasi praktis. \nDalam kursus ini\, peserta akan mempelajari berbagai metode pengolahan air minyak\, termasuk teknologi terbaru yang dapat meningkatkan efektivitas pemisahan dan pengolahan. Dengan pemahaman yang mendalam tentang proses ini\, peserta diharapkan dapat menerapkan teknik yang tepat untuk memenuhi standar lingkungan dan meningkatkan efisiensi operasional di tempat kerja mereka. \nObjectives:\nSetelah mengikuti pelatihan ini\, peserta diharapkan mampu: \n\nMemahami prinsip dasar pengolahan air minyak dan pentingnya dalam industri.\nMengidentifikasi berbagai teknik pemisahan minyak dan air yang efisien.\nMenerapkan metode pengolahan yang sesuai untuk air terkontaminasi minyak.\nMenganalisis dan mengevaluasi efektivitas proses pengolahan yang diterapkan.\nMengembangkan strategi untuk meningkatkan kepatuhan lingkungan dan efisiensi operasional.\n\nRecommended Participants:\nPelatihan ini direkomendasikan untuk: \n\nInsinyur lingkungan.\nStaf operasional di industri minyak dan gas.\nManajer proyek yang terlibat dalam pengolahan air.\nProfesional yang bekerja di bidang pengelolaan limbah dan perlindungan lingkungan.\n\nCourse Outline:\n1.Introduction to Oil-Water Treatment Technology \n\n\n\nPentingnya pengolahan air minyak dalam industri.\nDampak lingkungan dari air terkontaminasi minyak.\n\n\n\n2.Principles of Oil-Water Separation \n\n\n\nTeori dasar pemisahan minyak dan air.\nFaktor-faktor yang mempengaruhi efisiensi pemisahan.\n\n\n\n3.Advanced Treatment Techniques \n\n\n\nTeknologi terbaru dalam pengolahan air minyak.\nMetode fisik\, kimia\, dan biologis untuk pengolahan.\n\n\n\n4.Practical Applications and Case Studies \n\n\n\nStudi kasus penerapan teknologi pengolahan air minyak.\nEvaluasi efektivitas teknik yang digunakan.\n\n\n\n5.Regulatory Compliance and Environmental Impact \n\n\n\nStandar lingkungan yang relevan.\nStrategi untuk mencapai kepatuhan dan mengurangi dampak lingkungan.\n\n\n\nAbout the Trainer:\nIr. In Jumanda\, MT. adalah seorang profesional berpengalaman di bidang teknik dan manajemen proyek\, khususnya dalam industri minyak dan gas. Dengan latar belakang pendidikan yang kuat dan pengalaman praktis yang luas\, Jumanda telah berkontribusi dalam berbagai proyek besar yang melibatkan teknologi pengolahan air dan pemisahan minyak. \nSebagai trainer\, Jumanda memiliki kemampuan untuk menyampaikan materi dengan jelas dan efektif\, serta membagikan pengetahuan praktis yang relevan kepada peserta pelatihan. Beliau dikenal karena pendekatan interaktif dalam pengajaran\, yang mendorong diskusi dan partisipasi aktif dari peserta. \nJumanda juga memiliki sertifikasi profesional yang diakui di bidangnya\, dan telah memberikan pelatihan di berbagai perusahaan terkemuka\, membantu mereka dalam meningkatkan efisiensi operasional dan kepatuhan lingkungan melalui teknologi pengolahan air yang inovatif. \nPublic Training berikutnya : 14 – 16 Oktober\, 2026
URL:https://smart-training-center.com/event/oil-water-treatment-technology/
LOCATION:Bandung\, Jawa Barat\, Indonesia
CATEGORIES:Engineering,Q-HSE
ATTACH;FMTTYPE=image/png:https://smart-training-center.com/wp-content/uploads/2024/09/Oil-Water-Treatment-Technology.png
ORGANIZER;CN="PT Fiqry Jaya Manunggal":MAILTO:info@fiqry.com
END:VEVENT
END:VCALENDAR