BEGIN:VCALENDAR
VERSION:2.0
PRODID:-//Smart Training Center - ECPv6.15.20//NONSGML v1.0//EN
CALSCALE:GREGORIAN
METHOD:PUBLISH
X-WR-CALNAME:Smart Training Center
X-ORIGINAL-URL:https://smart-training-center.com
X-WR-CALDESC:Events for Smart Training Center
REFRESH-INTERVAL;VALUE=DURATION:PT1H
X-Robots-Tag:noindex
X-PUBLISHED-TTL:PT1H
BEGIN:VTIMEZONE
TZID:Asia/Krasnoyarsk
BEGIN:STANDARD
TZOFFSETFROM:+0700
TZOFFSETTO:+0700
TZNAME:+07
DTSTART:20240101T000000
END:STANDARD
END:VTIMEZONE
BEGIN:VEVENT
DTSTART;TZID=Asia/Krasnoyarsk:20250804T080000
DTEND;TZID=Asia/Krasnoyarsk:20250806T160000
DTSTAMP:20260422T130318
CREATED:20250110T040302Z
LAST-MODIFIED:20250110T040302Z
UID:1676-1754294400-1754496000@smart-training-center.com
SUMMARY:Training dan Sertifikasi BNSP - POPAL
DESCRIPTION:Background & About the Course\nThe Operational Responsible Person for Wastewater Management (POPAL) is a personnel with the authority and responsibility for planning\, operating\, optimizing wastewater treatment installations\, maintaining these installations\, and responding to emergencies related to wastewater operations.  \nAccording to the Indonesian Minister of Environment and Forestry Regulation No. P.5/MENLHK/SETJEN/KUM.1/2/2018 regarding Standards and Certification of Competence for Operational Responsible Persons in Wastewater Treatment and Pollution Control\, individuals responsible for pollution control must possess the required competencies\, which include certification. \nCourse Objectives\nThe objective of the BNSP certification training for Operational Responsible Persons in Wastewater Management (POPAL) is to enhance participants’ competencies in wastewater management according to standards\, ensure compliance with environmental regulations\, optimize operational efficiency of wastewater treatment systems\, and prepare participants for the BNSP competency test. After completing this training\, participants are expected to: \n\nUnderstand the fundamental principles of wastewater treatment.\nRecognize different types of wastewater treatment systems (physical\, chemical\, biological) and their applications.\nComprehend relevant environmental regulations and standards related to wastewater management.\nAcquire skills in operating and maintaining wastewater treatment equipment.\n\nWho Should Attend\nRecommended Participants: \n\nOperators with a minimum education of Senior High School (SMA) or Vocational High School (SMK).\nParticipants must provide:\nA copy of their ID (KTP).\nFour passport-sized photos with a red background (3 x 4 cm).\nA copy of their latest diploma.\nA CV or resume.\nA letter of work experience in the field of POPAL.\nA recommendation letter or work certificate from their company.\n\nCourse Outline\nCompetency Units for Operational Responsible Persons in Wastewater Management (POPAL): \n\nOperating Wastewater Treatment Installations (IPAL)\nAssessing the Level of Wastewater Pollution\nMaintaining Wastewater Treatment Installations (IPAL)\nIdentifying Hazards in Wastewater Treatment\nImplementing Occupational Health and Safety (K3) Measures Against Hazards in Wastewater Treatment\n\nAbout the Course Leader\nIr. Dwi Handaya\, ST.\, MK3.\, IPM   \nA Wastewater Treatment Specialist with over 25 years of practical experience in the field\, both nationally and internationally (Germany\, Saudi Arabia\, United Arab Emirates\, Singapore\, Malaysia\, etc.). He holds a Bachelor’s degree in Chemical Engineering and a Master’s degree in Environment and HSE from the University of Indonesia. Currently\, he serves as an advisor and expert council member at the Indonesian Water Association (www.idwa.or.id)\, supporting various projects in wastewater treatment (WWT)\, effluent treatment plants (ETP)\, potable water treatment (PWT)\, and sewage treatment plants (STP). He has also supported various power generation industries\, including PLTU Pangkalan Susu\, PLTU Lontar\, and recycling programs for PLN UID Jakarta. In addition to his practical industry experience\, he has taught at over 300 training events and seminars.
URL:https://smart-training-center.com/event/training-dan-sertifikasi-bnsp-popal/
LOCATION:Bandung\, Jawa Barat\, Indonesia
CATEGORIES:Q-HSE
ATTACH;FMTTYPE=image/jpeg:https://smart-training-center.com/wp-content/uploads/2025/01/Training-dan-Sertifikasi-BNSP-Penanggung-JawabPengendalian-Pencemaran-Air.jpg
ORGANIZER;CN="PT Fiqry Jaya Manunggal":MAILTO:info@fiqry.com
END:VEVENT
END:VCALENDAR