BEGIN:VCALENDAR
VERSION:2.0
PRODID:-//Smart Training Center - ECPv6.15.20//NONSGML v1.0//EN
CALSCALE:GREGORIAN
METHOD:PUBLISH
X-WR-CALNAME:Smart Training Center
X-ORIGINAL-URL:https://smart-training-center.com
X-WR-CALDESC:Events for Smart Training Center
REFRESH-INTERVAL;VALUE=DURATION:PT1H
X-Robots-Tag:noindex
X-PUBLISHED-TTL:PT1H
BEGIN:VTIMEZONE
TZID:Asia/Krasnoyarsk
BEGIN:STANDARD
TZOFFSETFROM:+0700
TZOFFSETTO:+0700
TZNAME:+07
DTSTART:20240101T000000
END:STANDARD
END:VTIMEZONE
BEGIN:VEVENT
DTSTART;TZID=Asia/Krasnoyarsk:20250709T083000
DTEND;TZID=Asia/Krasnoyarsk:20250711T160000
DTSTAMP:20260422T142116
CREATED:20241122T161836Z
LAST-MODIFIED:20250106T075920Z
UID:1006-1752049800-1752249600@smart-training-center.com
SUMMARY:Sertifikasi PPPA Popal Air Limbah
DESCRIPTION:Background & About the Course:\nThe Water Pollution Control Officer (PPPA) is a person responsible for the internal prevention and mitigation of water pollution caused by all production activities. According to the Regulation of the Minister of Environment and Forestry of the Republic of Indonesia No. P.5/MENLHK/SETJEN/KUM.1/2/2018 regarding Standards and Certification of Competence for Operational Wastewater Treatment Officers and Water Pollution Control Officers\, it is mandatory for Water Pollution Control Officers to possess a competency certificate to carry out their duties effectively. \nThis training program aims to ensure that participants acquire the necessary competencies to meet national requirements for water pollution control. Participants will learn to identify pollution sources\, assess pollution levels\, and operate wastewater treatment installations effectively. \nCourse Objectives:\n– Assess and ensure the competency of personnel in the role of Water Pollution Control Officer to meet national standards. \n– Maintain the competency of personnel in the role of Water Pollution Control Officer to ensure compliance with national requirements. \nWho Should Attend:\n\nWater Pollution Control Officers\nManagers\n\nRequirements \n\nMinimum education of Senior High School (SMA) or Vocational High School (SMK)\nCopy of Identity Card (KTP)\nFour 3×4 red background passport photos\nCopy of the latest diploma\nCurriculum Vitae (CV)\nLetter of work experience in the field of wastewater treatment\nRecommendation letter or work certificate from the company\n\nCourse Content:\nCompetency Units for Water Pollution Control Officer (PPPA): \n\nIdentify Sources of Wastewater Pollution\nDetermine Characteristics of Wastewater Pollution Sources\nAssess the Level of Wastewater Pollution\nSpecify Equipment for Wastewater Treatment Installations (IPAL)\nOperate Wastewater Treatment Installations (IPAL)\nImplement Wastewater Treatment Recycling\nDevelop a Wastewater Quality Monitoring Plan\nConduct Wastewater Quality Monitoring\nIdentify Hazards in Wastewater Treatment\nImplement Occupational Health and Safety (K3) Measures Against Hazards in Wastewater Treatment\n\nAbout the Course Leaders\nIr. Dwi Handaya\, ST.\, MK3.\, IPM is a Wastewater Treatment Specialist with over 25 years of practical experience in the field\, both nationally and internationally (Germany\, Saudi Arabia\, UAE\, Singapore\, Malaysia\, and others). He holds a Bachelor’s degree in Chemical Engineering and a Master’s degree in Environment and HSE from the University of Indonesia. Currently\, he serves as an advisor and expert council member at the Indonesian Water Association (www.idwa.or.id). \nIr. Dwi has supported various projects in wastewater treatment (WWT)\, effluent treatment plants (ETP)\, potable water treatment (PWT)\, and sewage treatment plants (STP) across different sectors. He has also contributed to several power generation industries\, including PLTU Pangkalan Susu\, PLTU Lontar\, and the recycling program for PLN UID Jakarta area. In addition to his practical industry experience\, he has taught at over 300 training events and seminars.
URL:https://smart-training-center.com/event/sertifikasi-pppa-popal-air-limbah/
LOCATION:Jakarta
CATEGORIES:Q-HSE
ATTACH;FMTTYPE=image/jpeg:https://smart-training-center.com/wp-content/uploads/2024/11/Training-dan-Sertifikasi-BNSP-Penanggung-Jawab-Pengendalian-Pencemaran-Air.jpg
ORGANIZER;CN="PT Fiqry Jaya Manunggal":MAILTO:info@fiqry.com
END:VEVENT
BEGIN:VEVENT
DTSTART;TZID=Asia/Krasnoyarsk:20250729T080000
DTEND;TZID=Asia/Krasnoyarsk:20250731T163000
DTSTAMP:20260422T142116
CREATED:20250108T112658Z
LAST-MODIFIED:20250108T112658Z
UID:1647-1753776000-1753979400@smart-training-center.com
SUMMARY:Training dan Sertifikasi BNSP - POIPPU (Pengendalian Pencemaran Udara)
DESCRIPTION:Background & About the Course\, \n(Pengendalian Pencemaran Udara) The Operational Responsible Officer for Air Pollution Control Installation (POIPPU) (Training dan Sertifikasi BNSP – POIPPU  is responsible for planning\, operating\, optimizing air pollution control equipment\, maintaining this equipment\, and executing emergency responses related to air pollution control. \nRegulations for POIPPU: \nAccording to the Regulation of the Minister of Environment and Forestry of the Republic of Indonesia No. P.6/MENLHK/Setjen/Kum.1/2/2018 concerning Standards and Certification of Competence for Operational Responsible Officers of Air Pollution Control Installations and Air Pollution Control Officers \nCourse Objectives\nUpon completing this training\, participants will: \n\nReceive training and certification in air pollution control.\nUnderstand environmental regulations regarding air quality monitoring and control.\nBe able to inventory\, identify\, name\, and code all emission sources within their company.\nComprehend and apply all requirements for air quality monitoring and control.\nDevelop a strategic emission monitoring plan for their company.\nBe guided in creating a portfolio\, participating in pre-assessments\, written exams\, and interviews to obtain a Competency Certificate from BNSP.\n\nWho Should Attend\nLevel: Implementers \nRequirements: \n\nCopy of Identity Card (KTP)\nFour 3×4 red background passport photos\nCopy of the latest diploma\nCurriculum Vitae (CV)\nRecommendation letter from the company\nLetter of work experience in the field of POIPPU\n\nCourse Content\nCompetency Units for Operational Responsible Officer of Air Pollution Control Installation (POIPPU): \n\nOperate Air Pollution Control Equipment for Emissions\nMaintain Air Pollution Control Equipment\nAssess Air Pollution Levels from Emissions\nIdentify Hazards in Air Pollution Control\nImplement Occupational Health and Safety (K3) Measures Against Hazards in Air Pollution Control from Emissions\n\nAbout the Course Leader\nIr. Dwi Handaya\, ST.\, MK3.\, IPM is a Waste Water Treatment Specialist with over 25 years of experience in the field\, both nationally and internationally (Germany\, Saudi Arabia\, UAE\, Singapore\, Malaysia\, and others). He holds a Bachelor’s degree in Chemical Engineering and a Master’s degree in Environment and HSE from the University of Indonesia. Currently\, he serves as an advisor and expert council member at the Indonesian Water Association (www.idwa.or.id). \nIr. Dwi has supported various projects in Waste Water Treatment (WWT)\, Effluent Treatment Plants (ETP)\, Potable Water Treatment (PWT)\, and Sewage Treatment Plants (STP) across different sectors. He has also contributed to several power generation industries\, including PLTU Pangkalan Susu and PLTU Lontar\, as well as recycling programs in the PLN UID Jakarta area. In addition to his practical industry experience\, he has taught at over 300 training events and seminars.
URL:https://smart-training-center.com/event/training-dan-sertifikasi-bnsp-poippu-pengendalian-pencemaran-udara/
LOCATION:Bandung\, Jawa Barat\, Indonesia
CATEGORIES:Q-HSE
ATTACH;FMTTYPE=image/jpeg:https://smart-training-center.com/wp-content/uploads/2025/01/penanggung-jawab-operasional-instalasi-pengendalian-pencemaran-udara.jpg
END:VEVENT
END:VCALENDAR