BEGIN:VCALENDAR
VERSION:2.0
PRODID:-//Smart Training Center - ECPv6.15.20//NONSGML v1.0//EN
CALSCALE:GREGORIAN
METHOD:PUBLISH
X-ORIGINAL-URL:https://smart-training-center.com
X-WR-CALDESC:Events for Smart Training Center
REFRESH-INTERVAL;VALUE=DURATION:PT1H
X-Robots-Tag:noindex
X-PUBLISHED-TTL:PT1H
BEGIN:VTIMEZONE
TZID:Asia/Krasnoyarsk
BEGIN:STANDARD
TZOFFSETFROM:+0700
TZOFFSETTO:+0700
TZNAME:+07
DTSTART:20250101T000000
END:STANDARD
END:VTIMEZONE
BEGIN:VEVENT
DTSTART;TZID=Asia/Krasnoyarsk:20260504T083000
DTEND;TZID=Asia/Krasnoyarsk:20260505T160000
DTSTAMP:20260422T005056
CREATED:20240924T034003Z
LAST-MODIFIED:20260209T082546Z
UID:361-1777883400-1777996800@smart-training-center.com
SUMMARY:Big Data & Cloud Computing
DESCRIPTION:Background:\nBig Data dan Cloud Computing sangat terintergrasi\, yang dirancang untuk mengelola dan memproses sejumlah besar data tersebut. Skalabilitas dan fleksibilitas Cloud Computing menjadikannya platform yang ideal untuk menangani tantangan unik yang dimiliki oleh Big Data. \nBig Data mengacu pada data yang sangat besar\, sangat bervariasi\, dan tumbuh dengan sangat cepat. Seringkali tidak terstruktur\, Big Data memerlukan teknologi khusus untuk diproses lebih lanjut guna mendapatkan wawasan mendalam yang dapat membantu pengambilan keputusan yang lebih baik. Perusahaan besar seperti Google dan Facebook telah berhasil memanfaatkan Big Data untuk mendorong pertumbuhan bisnis mereka. Karakteristik utama dari Big Data sering disebut sebagai 4 V\, yaitu Volume (data berukuran besar)\, Variety (data yang sangat bervariasi)\, Velocity (data yang tumbuh dengan cepat)\, dan Veracity (data yang tidak pasti atau tidak jelas). \nUntuk beradaptasi dengan teknologi baru ini dan mengambil manfaat maksimal darinya\, kita perlu belajar dengan cepat \nLearning Outcomes:\n\nAdapt the emerging big data and cloud technologies to support business applications\nDesign high performance and cloud applications to support scalable online services\nAnalyse the problems and challenges associated with big data\nDesign big data processing applications to efficiently process high volume and velocity data\nUtilize big data technology to enhance operational needs\nAble to manage potential risk related to big data & cloud computing\n\n\n\nTraining Outline:\n\n\n\n\n\nBig Data Fundamental\nData Management\nBig Data Technology\nData Processing\nData Analysis & Visualization\nCloud System\nInfrastructure (hardware\, storage\, processing)\nPlatform (tools\, build apps)\nSoftware (services)\nMapReduce Programming\nHadoop Fundamental\nSpark Fundamental\nRisk Management\n\n\nABOUT THE COURSE LEADER:\nAndika Bayu Saputra\, S.Kom\, M.Kom \nPublic Training berikutnya : 1 – 2 September\, 2026 | 1 – 2 Desember\, 2026
URL:https://smart-training-center.com/event/big-data-cloud-computing/
LOCATION:Jakarta
CATEGORIES:Information Technology
ATTACH;FMTTYPE=image/jpeg:https://smart-training-center.com/wp-content/uploads/2024/09/digital-3.jpg
ORGANIZER;CN="PT Fiqry Jaya Manunggal":MAILTO:info@fiqry.com
END:VEVENT
BEGIN:VEVENT
DTSTART;TZID=Asia/Krasnoyarsk:20260609T083000
DTEND;TZID=Asia/Krasnoyarsk:20260610T160000
DTSTAMP:20260422T005056
CREATED:20241122T041540Z
LAST-MODIFIED:20260227T091131Z
UID:822-1780993800-1781107200@smart-training-center.com
SUMMARY:IT Risk Management
DESCRIPTION:BACKGROUND & ABOUT THE COURSE:\nIT Risk Management (IT-RM) courses focus on achieving the perfect balance between leveraging IT opportunities for growth and minimizing potential risks or losses. As an essential component of good management practices\, it’s plays a critical role in fostering effective corporate governance. By following an iterative process\, consisting of structured steps taken in sequence\, organizations can ensure continuous improvement in IT decision-making. This approach not only enhances risk management strategies but also drives ongoing improvements in IT performance\, aligning technology efforts with broader business objectives. \nThis structured process empowers businesses to adapt to dynamic challenges\, optimize resources\, and maintain resilience in a constantly evolving digital landscape. \nTRAINING OBJECTIVES:\n\nAble to Defines Process of identifying vulnerabilities and threats to the information resources used by an organization in achieving business objectives and deciding what countermeasures Design high-performance and cloud applications to support scalable online services\nLearn to identify issues in processes and design big data processing applications to efficiently handle high-volume and high-velocity data.\nAble describe the road-mapping of risk management as related to IT processes; the framework will be based on the CMM maturity level concept.\n\nWHO SHOULD ATTEND:\n\nIT Managers\, Supervisors\, IT Security Officers\nChief Information Officers (CIOs)\nSystem Administrators & Network Engineers\nCompliance Officers\, Internal & External Auditors\nBusiness Continuity & Disaster Recovery Teams\nProject Managers handling IT-related projects\nData Protection Officers\n\nCOURSE OUTLINE:\n1. Introduction\n\nDefinition and importance of IT-RM.\nKey objectives and benefits.\nOverview of the risk management lifecycle.\n\n2. Understanding IT Risks and Processes\n\nIdentifying and classifying information assets.\nAssessing threats and vulnerabilities.\nPrioritizing risks based on likelihood and impact.\n\n3. Risk Indicators and Their Applications\n\nOperational risks: Safeguarding IT infrastructure.\nProject risks: Managing complexities in IT projects.\nStrategic risks: Aligning IT with business strategies.\n\n4. Building a Loss Event Database\n\nDocumenting intentional and unintentional data loss events.\nStrategies to prevent data loss.\nRecovery and cost management in case of data loss.\n\n5. Establishing Effective Risk Management Programs\n\nDefining the purpose of a risk management program.\nAssigning roles and responsibilities.\nKey steps for implementation and success.\n\n6. Risk Management Maturity\n\nIntroduction to Capability Maturity Model (CMM).\nAssessing current maturity levels.\nRoadmap for achieving advanced risk management maturity.\n\n7. IT Governance and Risk Management\n\nRole of IT governance in risk mitigation.\nResource allocation and cost-effective strategies.\nMonitoring and controlling adverse events.\n\n8. Real-World IT-RM Cases\n\nCase studies highlighting successful risk mitigation.\nLessons learned from failures.\nInnovative practices in risk management.\n\n9. Best Practices and Tools for IT-RM\n\nOverview of industry standards (e.g.\, ISO/IEC 27001).\nTools and technologies to support risk management.\nContinuous improvement and adaptability.\n\n10. Final Assessment and Certification\n\nGroup discussions and scenario analysis.\nPractical assignments based on course content.\nCertification of completion.\n\nABOUT THE COURSE LEADERS:\nAndika Bayu Saputra\, S.Kom\, M.Kom\, Pada tahun 2013 mendapatkan gelar master (S2) dibidang IT dengan predikat memuaskan di program pasca sarjana Magister Teknik Informatika FTI UII. \nMenjadi Consultant IT sejak 2013 dan banyak menangani proyek yang berkaitan dengan IT. Selain sebagai akademisi dan praktisi dibidang IT juga sering memberikan pelatihan dan certified dibidang IT. \nPublic Training berikutnya : 12 – 13 Oktober\, 2026
URL:https://smart-training-center.com/event/it-risk-management-2/
LOCATION:Jakarta
CATEGORIES:Information Technology,Manajemen,Q-HSE
ATTACH;FMTTYPE=image/jpeg:https://smart-training-center.com/wp-content/uploads/2024/11/it-risk-management.jpg
ORGANIZER;CN="PT Fiqry Jaya Manunggal":MAILTO:info@fiqry.com
END:VEVENT
BEGIN:VEVENT
DTSTART;TZID=Asia/Krasnoyarsk:20260609T083000
DTEND;TZID=Asia/Krasnoyarsk:20260611T160000
DTSTAMP:20260422T005056
CREATED:20241122T163235Z
LAST-MODIFIED:20260227T102348Z
UID:1025-1780993800-1781193600@smart-training-center.com
SUMMARY:e-Procurement berbasis ICT (Information Communication Technology)
DESCRIPTION:LATAR BELAKANG:\ne-Procurement adalah proses pengadaan barang/jasa pemerintah yang pelaksanaannya  dilakukan  secara  elektronik  yang  berbasis  web/\ninternet dengan memanfaatkan fasilitas teknologi komunikasi dan in-formasi yang meliputi pelelangan umum\, pra-kualifikasi dan sourcing\nsecara  elektronik  dengan  menggunakan  modul  berbasis  website. \nProses Pengadaan barang dan jasa yang dilakukan dengan menggunakan e-procurement secara signifikan akan meningkatkan kinerja\, efektifitas\,  efisiensi\,  transparansi\,  akuntabilitas  transaksi  yang  dilakukan\,  selain itu  biaya  operasional  dapat dikurangi  secara  signifikan karena  tidak  diperlukan  lagi penyerahan dokumen fisik dan proses  administrasi  yang  memakan waktu dan biaya. \nOBYEKTIF & BENEFIT:\n\nMemahami prinsip\, konsep\, dan manfaat e-procurement\nMemahami cara kerja aplikasi e-procurement\nMemahami konsep arsitektur pengembangan system\nMemahami tahapan pengembangan system dan modul\nMemahami bagaimana proses  menyeleksi \,  memilih \, dan mengevaluasi kinerja provider IT\nMerancang dan mengawasi  implementasi  pengembangan  e-Procurement\n\nMetoda Pangajaran:\n\n10% teori berdasarkan literatur praktisi\n20% menggunakan Demo Aplikasi Software\n30% best practices dan benchmarking\n40% studi kasus dan diskusi brainstorming\n\nPARTISIPAN:\nPersonal Supply Chain\, Procurement/ Purchasing\, Komite Pembelian\,\, MIS\, System Analyst\, dan IT Internal Auditor\,  Internal  Control\,  Compliance Unit\, Manager \nSILABUS TRAINING:\n\nReview proses Procurement secara manual\nBst-practices/framework yang sudah diakui secara internasional yang terkait dengan aspek IT Strategic Plan.\nPrinsip dan cara kerja sebuah sistem informasi berbasis ICT (information & communication technology) saat ini yang dapat dimanfaatkan secara maksimal untuk mendukung rencana strategis korporasi/ organisasi.\nMemahami bagaimana menempatkan dan posisi IT di dalam lingkungan korporasi/organisasi\nMemahami bagaiaman meletakkan dasar-dasar strategis manajemen sumber daya dengan memanfaatkan ICT.\nMampu membangun tata-kelola (governance) IT dari sisi strategis\nMemanfaatkan teknologi untuk meningkatkan kinerja\, transparansi & accountability pengadaan barang dan jasa\n\nABOUT THE COURSE LEADER:\nDR. Djadja Achmad Sardjana S.T.\, M.M.\n  \nPublic Training berikutnya : 26 – 28 Agustus\, 2026 | 12 – 14 Oktober\, 2026 | 24 – 26 November | 15 – 17 Desember\, 2026
URL:https://smart-training-center.com/event/e-procurement-berbasis-ict-information-communication-technology/
LOCATION:Bandung\, Jawa Barat\, Indonesia
CATEGORIES:Information Technology,Soft Skills,Supply Chain
ORGANIZER;CN="PT Fiqry Jaya Manunggal":MAILTO:info@fiqry.com
END:VEVENT
BEGIN:VEVENT
DTSTART;TZID=Asia/Krasnoyarsk:20260722T083000
DTEND;TZID=Asia/Krasnoyarsk:20260724T160000
DTSTAMP:20260422T005056
CREATED:20241122T161851Z
LAST-MODIFIED:20260413T074611Z
UID:1013-1784709000-1784908800@smart-training-center.com
SUMMARY:IT Resources Management System
DESCRIPTION:Background & About the Course:\n\n\nThe IT Resources Management System is a strategic approach to managing and optimizing information technology resources within an organization. This system encompasses the management of hardware\, software\, network infrastructure\, and IT workforce to support operational efficiency while ensuring business sustainability. By implementing a robust IT Resources Management System\, organizations can ensure that every IT asset is utilized optimally to add value to the company. \nIn today’s digital era\, effective IT resource management is a critical necessity. The IT Resources Management System provides a structured solution to help organizations enhance operational efficiency\, maximize resource utilization\, and mitigate technological risks that could impede business continuity. \nCourse Objectives:\n\nUnderstand internationally recognized best practices and frameworks related to IT Asset Management.\nComprehend the principles and workings of current ICT-based information systems to support strategic corporate plans.\nEstablish foundational operational management of resources using ICT.\nOptimize sourcing strategies within organizations (in-sourcing/out-sourcing/mix-sourcing).\nUtilize Key Performance Indicators (KPIs) to measure the benefits of IT assets in organizations.\nIntroduction to Business Continuity Management\n\nWho Should Attend:\n\nIT Managers responsible for planning and managing information technology resources.\nSupervisors or operational staff involved in the implementation and maintenance of IT systems.\nProfessionals from procurement or administration divisions related to IT asset management.\nIndividuals seeking to enhance their understanding and skills in IT resource management across various industries.\n\nCourse Content:\nIT Resources Management \n\nOverview of IT Resources Management System\nCurrent Trend of Gen-Z IT Human Resourcse\nGen-Z behavior\nImportance of IT Governance in Resource Management\nIdentifying Key IT Resources: Hardware\, Software\, and Personnel\nCase Studies: Challenges in IT Resource Allocation\n\nPlanning and Implementation \n\nFrameworks for IT Resource Management (e.g.\, ITIL\, COBIT)\nBuilding Effective IT Asset Inventory\nDeveloping IT Resource Utilization Plans\nHands-On Workshop: Creating a Resource Management Strategy\n\nMonitoring\, Evaluation\, and Risk Management \n\nIT Resource Performance Monitoring Tools\nMetrics for Evaluating Resource Utilization\nManaging IT-Related Risks and Incident Handling\n\nIntroduction to Business Continuity Management \n\nDisaster Recovery Plan\nBusiness Continuity Management\n\nAbout the course leader: \nAndika Bayu Saputra\, S.Kom\, M.Kom\n\n\n  \nPublic Training berikutnya : 27 – 29 Oktober\, 2026 \n 
URL:https://smart-training-center.com/event/it-resources-management-system/
LOCATION:Bandung\, Jawa Barat\, Indonesia
CATEGORIES:HRD,Information Technology,Manajemen,Production Operation
ATTACH;FMTTYPE=image/jpeg:https://smart-training-center.com/wp-content/uploads/2024/11/IT-Resouces-MS.jpg
ORGANIZER;CN="PT Fiqry Jaya Manunggal":MAILTO:info@fiqry.com
END:VEVENT
BEGIN:VEVENT
DTSTART;TZID=Asia/Krasnoyarsk:20260916T083000
DTEND;TZID=Asia/Krasnoyarsk:20260918T160000
DTSTAMP:20260422T005056
CREATED:20241122T160406Z
LAST-MODIFIED:20260415T035245Z
UID:972-1789547400-1789747200@smart-training-center.com
SUMMARY:IT Strategic Plan\, Operation & Tactical
DESCRIPTION:Background & About the Course:\nIn the era where technology drives business growth and transformation\, a well-defined IT strategic plan is essential to align technology with organizational goals. Beyond strategy\, effective operational and tactical management ensures the execution of IT initiatives with precision\, supporting day-to-day business functions while enabling long-term innovation. \nIn addition\, in the digital era full of uncertainty\, IT Business Continuity Management (IT BCM) is an important component in ensuring operational continuity. With IT BCM\, organizations can identify risks\, mitigate disruptions\, and maintain the stability of information systems that support business continuity. \nThis course provides participants with a comprehensive understanding of IT strategic planning\, operational management\, and tactical execution. From defining a vision and setting objectives to managing resources and measuring outcomes\, this program equips IT leaders with the tools and methodologies needed to optimize IT’s role in achieving organizational success. Participants will explore case studies\, frameworks\, and practical approaches to link strategy with operational excellence and tactical agility. \nCourse Objectives:\n\nDevelop a robust IT strategic plan aligned with organizational goals.\nUnderstand the role of IT in supporting business operations and driving innovation.\nImplement frameworks for effective IT governance and resource management.\nTranslate strategic plans into actionable operational and tactical initiatives.\nMeasure and optimize IT performance to ensure continuous improvement.\nAddress challenges in aligning IT initiatives with business priorities.\n\nWho Should Attend:\n\nIT managers\, directors\, and team leaders.\nCIOs and other senior IT executives.\nBusiness analysts and IT strategists.\nProject managers involved in IT initiatives.\n\nCourse Content:\nUnderstanding IT Strategy and Its Importance \n\nThe role of IT in achieving business objectives.\nKey components of an effective IT strategic plan.\nAligning IT goals with organizational vision and mission.\n\nDeveloping an IT Strategic Plan \n\nSWOT analysis for IT: Identifying strengths\, weaknesses\, opportunities\, and threats.\nSetting SMART objectives for IT initiatives.\nPrioritizing IT projects and resource allocation.\n\nIT Operational Management \n\nIT governance frameworks: COBIT\, ITIL\, and others.\nManaging IT resources: People\, processes\, and technology.\nRisk management and compliance in IT operations.\nKey performance indicators (KPIs) for IT operations.\n\nTranslating Strategy into Tactical Execution \n\nBridging the gap between strategy and operations.\nPlanning and executing IT projects effectively.\nMonitoring progress and adjusting tactics as needed.\nChange management in IT: Handling resistance and ensuring adoption.\n\nMeasuring and Optimizing IT Performance \n\nTools and techniques for performance measurement.\nContinuous improvement: Using data to enhance IT effectiveness.\nCase studies: Lessons from successful IT strategic implementations.\n\nEmerging Trends and Future Directions in IT Strategy \n\nDigital transformation and its impact on IT strategy.\nEmerging technologies: Cloud computing\, AI\, and IoT.\nPreparing for the future: Scalability and adaptability in IT planning.\n\nBuilding & Integrating IT BCP with the corporate Stragetic Plan & Organization \n\nImplementing IT Strategic Plan dan BCP in big corporation\n\n\n\n\nABOUT THE COURSE LEADER:\nDr. Djadja A. Sardjana\, ST\, MM \nA highly accomplished practitioner\, learning officer\, and lecturer\, this professional began his career in multinational telecommunications after earning his Bachelor’s and Master’s degrees in Telecommunication Engineering (both with Cum Laude honors). He later achieved a Doctorate in Education\, shifting his focus toward education and e-learning\, where he has significantly contributed to various projects. Some notable milestones include implementing e-learning systems for organizations such as Pertamina Corporate University\, Bank Jatim\, Newmont Mining\, Pelindo\, and Lemdikpol. He also serves as the Chief Learning Officer at Dataquest Leverage Indonesia and as an Associate Instructor and Consultant at Fiqry Jaya Manunggal. \nWith over two decades of experience\, including reaching managerial roles\, his core competencies span Strategic Business Planning\, Sales and Marketing\, Project Management\, Quality and Six Sigma\, E-learning\, Corporate University Development\, and Knowledge Management. These skills have been honed through diverse responsibilities and achievements across industries. \nHe is also a Council Member of the Gerson Lehrman Group (GLG)\, collaborating with global experts to provide insights into products\, services\, and industries. His certifications and training include specialized programs in Career Planning (AT&T Lucent)\, Global Multicultural Management (Global Success)\, Project Management (Motorola)\, and Digital Six Sigma (Motorola)\, further underscoring his multifaceted expertise.
URL:https://smart-training-center.com/event/it-strategic-plan-operation-tactical/
LOCATION:Bandung\, Jawa Barat\, Indonesia
CATEGORIES:Information Technology,Manajemen,Q-HSE
ATTACH;FMTTYPE=image/jpeg:https://smart-training-center.com/wp-content/uploads/2024/11/IT-Strategic-Operation-Tactical.jpg
ORGANIZER;CN="PT Fiqry Jaya Manunggal":MAILTO:info@fiqry.com
END:VEVENT
END:VCALENDAR