BEGIN:VCALENDAR
VERSION:2.0
PRODID:-//Smart Training Center - ECPv6.15.20//NONSGML v1.0//EN
CALSCALE:GREGORIAN
METHOD:PUBLISH
X-WR-CALNAME:Smart Training Center
X-ORIGINAL-URL:https://smart-training-center.com
X-WR-CALDESC:Events for Smart Training Center
REFRESH-INTERVAL;VALUE=DURATION:PT1H
X-Robots-Tag:noindex
X-PUBLISHED-TTL:PT1H
BEGIN:VTIMEZONE
TZID:Asia/Krasnoyarsk
BEGIN:STANDARD
TZOFFSETFROM:+0700
TZOFFSETTO:+0700
TZNAME:+07
DTSTART:20250101T000000
END:STANDARD
END:VTIMEZONE
BEGIN:VEVENT
DTSTART;TZID=Asia/Krasnoyarsk:20260727T083000
DTEND;TZID=Asia/Krasnoyarsk:20260729T160000
DTSTAMP:20260422T041427
CREATED:20241122T170007Z
LAST-MODIFIED:20260413T085234Z
UID:1067-1785141000-1785340800@smart-training-center.com
SUMMARY:Flow & Level Custody Measurement
DESCRIPTION:About the Course:\nPengukuran Flow and Level Custody Transfer Measurement adalah titik akhir dari suatu operasi minyak & gas. Dimana di situ dilakukan pengukuran produksi untuk keperluan legal & komersial. Oleh Karena itu akurasi & pengetahuan teknis sangat diperlukan. \nKursus ini dirancang untuk memperkenalkan pengguna pada masalah dan solusi terkait transfer akurasi tinggi produk minyak bumi cair dan gas dari pemasok ke pelanggan. Kebutuhan ini muncul karena perubahan besar dalam proses manufaktur dan perubahan dramatis lainnya seperti: peningkatan biaya bahan bakar dan bahan baku; kebutuhan untuk meminimalkan polusi; dan tekanan yang meningkat untuk mematuhi persyaratan kesehatan dan keselamatan. \nCourse Objectives:\n\nRefresh dasar-dasar mekanika fluida.\nMengidentifikasi masalah mendasar terkait ketidakpastian.\nMembandingkan metode pengukuran aliran di industri minyak dan gas.\nMendeskripsikan berbagai metode pengukuran level.\nMembandingkan metode yang digunakan untuk membuat tabel strapping.\nMengevaluasi standar transfer hak milik yang berbeda.\nMembandingkan metode kalibrasi aliran.\nMengidentifikasi berbagai jenis sistem prover.\nMenjelaskan metodologi transfer hak milik truk.\nMemeriksa tantangan terkait pipa.\nMendeskripsikan dasar-dasar deteksi kebocoran.\nMenganalisis metodologi untuk memantau dan mengendalikan kerugian produksi.\n\nWho Should Attend:\nKursus ini direkomendasikan untuk insinyur dan teknisi yang beroperasi dan memelihara instrumen terkait pengukuran transfer hak milik dan aliran\, termasuk insinyur dan teknisi fasilitas\, proses\, kimia\, listrik\, instrumentasi\, pemeliharaan\, dan mekanik. \nCourse Content:\n\nFluid Mechanics\nFlowmeter Classification\nUncertainty Analysis\nFlow Measurement\nTurbine\nPositive Displacement\nUltrasonic Flowmeters\nCoriolis Mass Flowmeters\nLevel Measurement\nBuoyancy Tape Systems\nHydrostatic Pressure\nUltrasonic Measurement\nRadar Measurement\nFlow Calibration\nTerminal Custody Transfer\nTank Management Systems\nLease Automatic Custody Transfer\nTruck and Rail Custody Transfer\nPipeline Considerations\nFugitive Emissions\nLeak Detection\nReal Time Transient Model\nLoss Control Systems\nCustody Transfer Sampling\nMonitoring and Controlling Production Losses\nPhysical Leaks\nMeter Prover Performance\nAPI Standards\nMeasuring the Suspended S&W Content\nCalculating Net Volume\nFlowmeter Selection and Costs\nInitial Considerations\nMeter Selection\n\nAbout the Trainer:\nProf. Ir. Endra Joelianto\, Ph.D.\, SMIEEE adalah ahli dalam teknik kontrol. Penelitian unggulannya meliputi: Sistem Kontrol Hibrida\, Sistem Kontrol Acara Diskrit\, Analisis dan Aplikasi Petri Nets pada PLC\, Pengendali PID yang Tangguh\, Kontrol Proses Lanjutan\, dan Otomasi Industri menggunakan PLC/DCS. Beliau meraih gelar pertama (Ir.) di Teknik Fisika pada tahun 1990 dari Departemen Teknik Fisika\, ITB dan gelar Doctor of Philosophy (Ph.D.) di Teknik Kontrol pada tahun 2001 dari Departemen Teknik\, The Australian National University\, Australia. \nPublic Training berikutnya : 16 – 18 November\, 2026
URL:https://smart-training-center.com/event/flow-and-level-custody-measurement/
LOCATION:Bandung\, Jawa Barat\, Indonesia
CATEGORIES:Engineering,Finance,Manajemen,Marketing,Production Operation
ATTACH;FMTTYPE=image/jpeg:https://smart-training-center.com/wp-content/uploads/2024/11/oil-gas-measurement-metering-custody.jpg
ORGANIZER;CN="PT Fiqry Jaya Manunggal":MAILTO:info@fiqry.com
END:VEVENT
END:VCALENDAR